BEGIN:VCALENDAR
VERSION:2.0
PRODID:-//archive.cryptologicfoundation.org//NONSGML kigkonsult.se iCalcrea
 tor 2.30.10//
CALSCALE:GREGORIAN
METHOD:PUBLISH
UID:ef3c4b80-ebd5-4736-99ed-8e86f11fb3f6
X-WR-CALDESC:23 June 1976:  Whitfield Diffie and Martin Hellman presented t
 heir idea for public-key exchange encryption at a conference in Sweden. Ph
 oto credit: Chuck Painter\, Stanford News Service\n\nIn 2016\, Whitfield a
 nd Diffie were awarded the 2015 'Nobel Prize of Computing\,' - the ACM - A
 ssociation for Computing Machinery's 2015 A.M. Turing Award for critical c
 ontributions to modern cryptography. Their invention of public-key cryptog
 raphy and digital signatures revolutionized computer security. Learn more 
 about their contributions and their award via the link included below.\n\n
 Also - check out a 2020 NCF #CyberChat with Whitfield Diffie regarding dat
 a encryption - via the link below.\n\nFrom Wikipedia: \n\n<b>Diffie–Hellma
 n key exchange (D–H)</b> is a specific method of securely exchanging crypt
 ographic keys over a public channel and was one of the first public-key pr
 otocols as originally conceptualized by Ralph Merkle. D–H is one of the ea
 rliest practical examples of public key exchange implemented within the fi
 eld of cryptography. The Diffie–Hellman key exchange method allows two par
 ties that have no prior knowledge of each other to jointly establish a sha
 red secret key over an insecure channel. This key can then be used to encr
 ypt subsequent communications using a symmetric key cipher.
X-WR-RELCALID:80b384a4c7db640ca6a80fdbc16c94ed
X-WR-TIMEZONE:America/New_York
BEGIN:VTIMEZONE
TZID:America/New_York
BEGIN:STANDARD
TZNAME:EST
DTSTART:20251102T020000
TZOFFSETFROM:-0400
TZOFFSETTO:-0500
RDATE:20261101T020000
RDATE:20271107T020000
END:STANDARD
BEGIN:DAYLIGHT
TZNAME:EDT
DTSTART:20260308T020000
TZOFFSETFROM:-0500
TZOFFSETTO:-0400
RDATE:20270314T020000
END:DAYLIGHT
END:VTIMEZONE
BEGIN:VEVENT
UID:4fa6ee98-62dc-4f8a-b83b-1698adda7743
DTSTAMP:20260424T080310Z
DESCRIPTION:23 June 1976:  Whitfield Diffie and Martin Hellman presented th
 eir idea for public-key exchange encryption at a conference in Sweden. Pho
 to credit: Chuck Painter\, Stanford News Service\n\nIn 2016\, Whitfield an
 d Diffie were awarded the 2015 'Nobel Prize of Computing\,' - the ACM - As
 sociation for Computing Machinery's 2015 A.M. Turing Award for critical co
 ntributions to modern cryptography. Their invention of public-key cryptogr
 aphy and digital signatures revolutionized computer security. Learn more a
 bout their contributions and their award via the link included below.\n\nA
 lso - check out a 2020 NCF #CyberChat with Whitfield Diffie regarding data
  encryption - via the link below.\n\nFrom Wikipedia: \n\n<b>Diffie–Hellman
  key exchange (D–H)</b> is a specific method of securely exchanging crypto
 graphic keys over a public channel and was one of the first public-key pro
 tocols as originally conceptualized by Ralph Merkle. D–H is one of the ear
 liest practical examples of public key exchange implemented within the fie
 ld of cryptography. The Diffie–Hellman key exchange method allows two part
 ies that have no prior knowledge of each other to jointly establish a shar
 ed secret key over an insecure channel. This key can then be used to encry
 pt subsequent communications using a symmetric key cipher.
DTSTART;TZID=America/New_York:20260623T060000
DTEND;TZID=America/New_York:20260623T060001
LOCATION:
SUMMARY:1976: Diffie and Hellman presented public-key exchange idea.
END:VEVENT
END:VCALENDAR
