BEGIN:VCALENDAR
VERSION:2.0
PRODID:-//archive.cryptologicfoundation.org//NONSGML kigkonsult.se iCalcrea
 tor 2.30.10//
CALSCALE:GREGORIAN
METHOD:PUBLISH
UID:485b4081-33ea-4e95-8fe5-c47680149273
X-WR-CALDESC:28 June 2007: The commissioning of the Coast Guard Cryptologic
  Group took place at NSA Fort Meade\, MD.\n\nThe Coast Guard Cryptologic G
 roup (CGCG) informs and protects Coast Guard assets\, as well as joint\, c
 ombined\, and coalition forces defending national and homeland security in
 terests through actionable signals intelligence. CGCG provides cryptologic
  capabilities and facilitates interoperability with U.S. Navy and U.S. Cry
 ptologic assets to enhance maritime domain awareness for operational comma
 nders as they plan and execute Coast Guard missions.
X-WR-RELCALID:add7439157789e45273dc4da1786cd1b
X-WR-TIMEZONE:America/New_York
BEGIN:VTIMEZONE
TZID:America/New_York
BEGIN:STANDARD
TZNAME:EST
DTSTART:20251102T020000
TZOFFSETFROM:-0400
TZOFFSETTO:-0500
RDATE:20261101T020000
RDATE:20271107T020000
END:STANDARD
BEGIN:DAYLIGHT
TZNAME:EDT
DTSTART:20260308T020000
TZOFFSETFROM:-0500
TZOFFSETTO:-0400
RDATE:20270314T020000
END:DAYLIGHT
END:VTIMEZONE
BEGIN:VEVENT
UID:35865192-e1c0-47d9-8312-4851d4c3b4a1
DTSTAMP:20260424T080639Z
DESCRIPTION:28 June 2007: The commissioning of the Coast Guard Cryptologic 
 Group took place at NSA Fort Meade\, MD.\n\nThe Coast Guard Cryptologic Gr
 oup (CGCG) informs and protects Coast Guard assets\, as well as joint\, co
 mbined\, and coalition forces defending national and homeland security int
 erests through actionable signals intelligence. CGCG provides cryptologic 
 capabilities and facilitates interoperability with U.S. Navy and U.S. Cryp
 tologic assets to enhance maritime domain awareness for operational comman
 ders as they plan and execute Coast Guard missions.
DTSTART;TZID=America/New_York:20260628T000000
DTEND;TZID=America/New_York:20260628T235900
LOCATION:
SUMMARY:2007: Commissioning of Coast Guard Cryptologic Group at NSA.
END:VEVENT
END:VCALENDAR
