BEGIN:VCALENDAR
VERSION:2.0
PRODID:-//archive.cryptologicfoundation.org//NONSGML kigkonsult.se iCalcrea
 tor 2.30.10//
CALSCALE:GREGORIAN
METHOD:PUBLISH
UID:d30298de-354a-4cac-91f5-505f5f69023d
X-WR-CALDESC:29 June 1942: The Allies realized that the US diplomatic code 
 had been broken by the Germans.
X-WR-RELCALID:edcb110ee25fbfead12bb61b548f9be1
X-WR-TIMEZONE:America/New_York
BEGIN:VTIMEZONE
TZID:America/New_York
BEGIN:STANDARD
TZNAME:EST
DTSTART:20251102T020000
TZOFFSETFROM:-0400
TZOFFSETTO:-0500
RDATE:20261101T020000
RDATE:20271107T020000
END:STANDARD
BEGIN:DAYLIGHT
TZNAME:EDT
DTSTART:20260308T020000
TZOFFSETFROM:-0500
TZOFFSETTO:-0400
RDATE:20270314T020000
END:DAYLIGHT
END:VTIMEZONE
BEGIN:VEVENT
UID:956c77f4-1330-451f-8679-fa9977daee58
DTSTAMP:20260424T080201Z
DESCRIPTION:29 June 1942: The Allies realized that the US diplomatic code h
 ad been broken by the Germans.
DTSTART;TZID=America/New_York:20260629T000000
DTEND;TZID=America/New_York:20260629T235900
LOCATION:
SUMMARY:1942: Allies realized code was broken by Germans.
END:VEVENT
END:VCALENDAR
