BEGIN:VCALENDAR
VERSION:2.0
PRODID:-//archive.cryptologicfoundation.org//NONSGML kigkonsult.se iCalcrea
 tor 2.30.10//
CALSCALE:GREGORIAN
METHOD:PUBLISH
UID:a292e063-a4ce-44c7-af88-1b6f5714a6a8
X-WR-CALDESC:30 June 1971: Two Rock Ranch\, one of the West Coast monitorin
 g stations during WWII\, closed. Two Rock Ranch was the sister station to 
 Vint Hill Farms on the opposite coast (in Virginia). See the link below fo
 r the ASA article about the closing\, by Dave Shively. Photo is from the A
 SAlives.org site - referenced in the link below.
X-WR-RELCALID:468137927e7a3b2c430abb20f4655b76
X-WR-TIMEZONE:America/New_York
BEGIN:VTIMEZONE
TZID:America/New_York
BEGIN:STANDARD
TZNAME:EST
DTSTART:20251102T020000
TZOFFSETFROM:-0400
TZOFFSETTO:-0500
RDATE:20261101T020000
RDATE:20271107T020000
END:STANDARD
BEGIN:DAYLIGHT
TZNAME:EDT
DTSTART:20260308T020000
TZOFFSETFROM:-0500
TZOFFSETTO:-0400
RDATE:20270314T020000
END:DAYLIGHT
END:VTIMEZONE
BEGIN:VEVENT
UID:0d499495-322b-4256-90d4-0b7e39585ebf
DTSTAMP:20260424T083150Z
DESCRIPTION:30 June 1971: Two Rock Ranch\, one of the West Coast monitoring
  stations during WWII\, closed. Two Rock Ranch was the sister station to V
 int Hill Farms on the opposite coast (in Virginia). See the link below for
  the ASA article about the closing\, by Dave Shively. Photo is from the AS
 Alives.org site - referenced in the link below.
DTSTART;TZID=America/New_York:20260630T000000
DTEND;TZID=America/New_York:20260630T235900
LOCATION:
SUMMARY:1971: Two Rock Ranch (WWII monitoring station) closed.
END:VEVENT
END:VCALENDAR
