BEGIN:VCALENDAR
VERSION:2.0
PRODID:-//archive.cryptologicfoundation.org//NONSGML kigkonsult.se iCalcrea
 tor 2.30.10//
CALSCALE:GREGORIAN
METHOD:PUBLISH
UID:049b52ab-c8bc-49b9-aeb1-911ce247e3d2
X-WR-CALDESC:1 July 1931: At the urging of Elizebeth Friedman\, the US Coas
 t Guard established a seven man cryptanalytic section.\n\nLearn more in th
 e NSA Center for Cryptologic History's document - 'Listening to the Rumrun
 ners: Radio Intelligence during Prohibition' by David P. Mowry\, as well a
 s Elizebeth Friedman's Hall of Honor page. See links below.\n
X-WR-RELCALID:bc26bc41086986dc49202b2eeb19ecb3
X-WR-TIMEZONE:America/New_York
BEGIN:VTIMEZONE
TZID:America/New_York
BEGIN:STANDARD
TZNAME:EST
DTSTART:20251102T020000
TZOFFSETFROM:-0400
TZOFFSETTO:-0500
RDATE:20261101T020000
RDATE:20271107T020000
END:STANDARD
BEGIN:DAYLIGHT
TZNAME:EDT
DTSTART:20260308T020000
TZOFFSETFROM:-0500
TZOFFSETTO:-0400
RDATE:20270314T020000
END:DAYLIGHT
END:VTIMEZONE
BEGIN:VEVENT
UID:1a84e8c0-6d5d-492b-8b53-ed2130431310
DTSTAMP:20260424T094040Z
DESCRIPTION:1 July 1931: At the urging of Elizebeth Friedman\, the US Coast
  Guard established a seven man cryptanalytic section.\n\nLearn more in the
  NSA Center for Cryptologic History's document - 'Listening to the Rumrunn
 ers: Radio Intelligence during Prohibition' by David P. Mowry\, as well as
  Elizebeth Friedman's Hall of Honor page. See links below.\n
DTSTART;TZID=America/New_York:20260701T000000
DTEND;TZID=America/New_York:20260701T235900
LOCATION:
SUMMARY:1931: US Coast Guard Established Cryptanalytic Section
END:VEVENT
END:VCALENDAR
