BEGIN:VCALENDAR
VERSION:2.0
PRODID:-//archive.cryptologicfoundation.org//NONSGML kigkonsult.se iCalcrea
 tor 2.30.10//
CALSCALE:GREGORIAN
METHOD:PUBLISH
UID:181a3275-b22d-42d9-9b78-b3c33048ab42
X-WR-CALDESC:3 July 1945: The Cryptographic Security Board was established.
X-WR-RELCALID:a3bb11a0ddece75da1461a47bfd41bfb
X-WR-TIMEZONE:America/New_York
BEGIN:VTIMEZONE
TZID:America/New_York
BEGIN:STANDARD
TZNAME:EST
DTSTART:20251102T020000
TZOFFSETFROM:-0400
TZOFFSETTO:-0500
RDATE:20261101T020000
RDATE:20271107T020000
END:STANDARD
BEGIN:DAYLIGHT
TZNAME:EDT
DTSTART:20260308T020000
TZOFFSETFROM:-0500
TZOFFSETTO:-0400
RDATE:20270314T020000
END:DAYLIGHT
END:VTIMEZONE
BEGIN:VEVENT
UID:e9dcb192-d5c9-46f3-b1e0-4f82372a1097
DTSTAMP:20260424T092949Z
DESCRIPTION:3 July 1945: The Cryptographic Security Board was established.
DTSTART;TZID=America/New_York:20260703T000000
DTEND;TZID=America/New_York:20260703T235900
LOCATION:
SUMMARY:1945: Cryptographic Security Board established
END:VEVENT
END:VCALENDAR
