BEGIN:VCALENDAR
VERSION:2.0
PRODID:-//archive.cryptologicfoundation.org//NONSGML kigkonsult.se iCalcrea
 tor 2.30.10//
CALSCALE:GREGORIAN
METHOD:PUBLISH
UID:88fceb60-5170-4d72-bb3f-8d8e14f8e4bf
X-WR-CALDESC:On 5 July 1917: General Order\, No. 8\, War Department formall
 y established AEF headquarters in France\, including a cryptographic and c
 ryptanalytic branch. General Order\, No. 8 detailed the distribution of st
 aff duties for the AEF. \n\nPhoto Info:  Title: 1917--Distinctive Insignia
 --1919: American Expeditionary Forces\nCreator/Contributor: Engineer Repro
 duction Plant\, U.S. Army\, Washington\, Barrack\, D.C.\, publisher\nDate:
 1919\nContributing Institution: UC Berkeley\, Bancroft Library
X-WR-RELCALID:fe0afa18820dfac36cfa0de6f31470e1
X-WR-TIMEZONE:America/New_York
BEGIN:VTIMEZONE
TZID:America/New_York
BEGIN:STANDARD
TZNAME:EST
DTSTART:20251102T020000
TZOFFSETFROM:-0400
TZOFFSETTO:-0500
RDATE:20261101T020000
RDATE:20271107T020000
END:STANDARD
BEGIN:DAYLIGHT
TZNAME:EDT
DTSTART:20260308T020000
TZOFFSETFROM:-0500
TZOFFSETTO:-0400
RDATE:20270314T020000
END:DAYLIGHT
END:VTIMEZONE
BEGIN:VEVENT
UID:d95fcae2-8d8d-4d72-b555-422c9d7767da
DTSTAMP:20260424T093830Z
DESCRIPTION:On 5 July 1917: General Order\, No. 8\, War Department formally
  established AEF headquarters in France\, including a cryptographic and cr
 yptanalytic branch. General Order\, No. 8 detailed the distribution of sta
 ff duties for the AEF. \n\nPhoto Info:  Title: 1917--Distinctive Insignia-
 -1919: American Expeditionary Forces\nCreator/Contributor: Engineer Reprod
 uction Plant\, U.S. Army\, Washington\, Barrack\, D.C.\, publisher\nDate:1
 919\nContributing Institution: UC Berkeley\, Bancroft Library
DTSTART;TZID=America/New_York:20260705T000000
DTEND;TZID=America/New_York:20260705T235900
LOCATION:
SUMMARY:1917: General Order\, No. 8 - established HQ\, AEF in France
END:VEVENT
END:VCALENDAR
