BEGIN:VCALENDAR
VERSION:2.0
PRODID:-//archive.cryptologicfoundation.org//NONSGML kigkonsult.se iCalcrea
 tor 2.30.10//
CALSCALE:GREGORIAN
METHOD:PUBLISH
UID:d51cb0f9-6cad-4d5c-ab42-a9dd000cee8b
X-WR-CALDESC:5 July 1977: VADM B. R. Inman\, USN\, became DIRNSA.\n\nVADM B
 obby Ray Inman served as Director of Naval Intelligence from September 197
 4 to July 1976\, then moved to the Defense Intelligence Agency where he se
 rved as Vice Director until 1977. He next became the Director of the Natio
 nal Security Agency. Inman held this post until 1981. His last major posit
 ion was as the Deputy Director of Central Intelligence\, a post he held fr
 om February 12\, 1981 to June 10\, 1982. He then became the first naval in
 telligence specialist to earn the rank of four-star Admiral. He has also b
 een influential in several advisory roles throughout his career and has re
 ceived numerous honors and medals for his achievements.
X-WR-RELCALID:ebe0573eb64fcd7c54a7da6339d428b4
X-WR-TIMEZONE:America/New_York
BEGIN:VTIMEZONE
TZID:America/New_York
BEGIN:STANDARD
TZNAME:EST
DTSTART:20251102T020000
TZOFFSETFROM:-0400
TZOFFSETTO:-0500
RDATE:20261101T020000
RDATE:20271107T020000
END:STANDARD
BEGIN:DAYLIGHT
TZNAME:EDT
DTSTART:20260308T020000
TZOFFSETFROM:-0500
TZOFFSETTO:-0400
RDATE:20270314T020000
END:DAYLIGHT
END:VTIMEZONE
BEGIN:VEVENT
UID:0aacbd98-5de6-4b10-8fbd-41a2e9dd8909
DTSTAMP:20260424T093434Z
DESCRIPTION:5 July 1977: VADM B. R. Inman\, USN\, became DIRNSA.\n\nVADM Bo
 bby Ray Inman served as Director of Naval Intelligence from September 1974
  to July 1976\, then moved to the Defense Intelligence Agency where he ser
 ved as Vice Director until 1977. He next became the Director of the Nation
 al Security Agency. Inman held this post until 1981. His last major positi
 on was as the Deputy Director of Central Intelligence\, a post he held fro
 m February 12\, 1981 to June 10\, 1982. He then became the first naval int
 elligence specialist to earn the rank of four-star Admiral. He has also be
 en influential in several advisory roles throughout his career and has rec
 eived numerous honors and medals for his achievements.
DTSTART;TZID=America/New_York:20260705T000000
DTEND;TZID=America/New_York:20260705T235900
LOCATION:
SUMMARY:1977: VADM B. R. Inman\, USN\, became DIRNSA
END:VEVENT
END:VCALENDAR
