BEGIN:VCALENDAR
VERSION:2.0
PRODID:-//archive.cryptologicfoundation.org//NONSGML kigkonsult.se iCalcrea
 tor 2.30.10//
CALSCALE:GREGORIAN
METHOD:PUBLISH
UID:c15cc2e2-e020-4240-9745-ac7b748ef9b0
X-WR-CALDESC:In a memorandum to the Director of Budget dated 8 July 1942\, 
 President Roosevelt limited cryptanalysis activities to the Army\, Navy\, 
 & FBI\, and ordered that the cryptanalytic units of the FCC\, OSS\, and Di
 rector of Censorship be terminated.\n\n<b>Learn more about this order in t
 he NSA CCH publication by Robert L. Benson titled\, 'The Army-Navy-Comint 
 Agreements of 1942\,' via the link below.</b>
X-WR-RELCALID:c1fe404ba43724a39627bba6755e4df7
X-WR-TIMEZONE:America/New_York
BEGIN:VTIMEZONE
TZID:America/New_York
BEGIN:STANDARD
TZNAME:EST
DTSTART:20251102T020000
TZOFFSETFROM:-0400
TZOFFSETTO:-0500
RDATE:20261101T020000
RDATE:20271107T020000
END:STANDARD
BEGIN:DAYLIGHT
TZNAME:EDT
DTSTART:20260308T020000
TZOFFSETFROM:-0500
TZOFFSETTO:-0400
RDATE:20270314T020000
END:DAYLIGHT
END:VTIMEZONE
BEGIN:VEVENT
UID:c3f49cc2-8b0d-4f69-8c80-ad5eac3cee9e
DTSTAMP:20260424T094758Z
DESCRIPTION:In a memorandum to the Director of Budget dated 8 July 1942\, P
 resident Roosevelt limited cryptanalysis activities to the Army\, Navy\, &
  FBI\, and ordered that the cryptanalytic units of the FCC\, OSS\, and Dir
 ector of Censorship be terminated.\n\n<b>Learn more about this order in th
 e NSA CCH publication by Robert L. Benson titled\, 'The Army-Navy-Comint A
 greements of 1942\,' via the link below.</b>
DTSTART;TZID=America/New_York:20260708T060000
DTEND;TZID=America/New_York:20260708T060001
LOCATION:
SUMMARY:1942: President Roosevelt Limited COMINT Activities to the Army\, N
 avy\, & FBI.
END:VEVENT
END:VCALENDAR
