BEGIN:VCALENDAR
VERSION:2.0
PRODID:-//archive.cryptologicfoundation.org//NONSGML kigkonsult.se iCalcrea
 tor 2.30.10//
CALSCALE:GREGORIAN
METHOD:PUBLISH
UID:55cd016b-efe9-4b54-b307-cc16444371d2
X-WR-CALDESC:On this date in 1943\, Project BEECHNUT\, a special US/UK cryp
 tanalytic activity\, was established.\n\nFor more info\, view the online N
 SA publication\, 'History of U.S. Communications Intelligence during World
  War II: Policy and Administration\,' by Robert L. Benson. See link below.
X-WR-RELCALID:07930837c88ce00d30d261e3fa7eef78
X-WR-TIMEZONE:America/New_York
BEGIN:VTIMEZONE
TZID:America/New_York
BEGIN:STANDARD
TZNAME:EST
DTSTART:20251102T020000
TZOFFSETFROM:-0400
TZOFFSETTO:-0500
RDATE:20261101T020000
RDATE:20271107T020000
END:STANDARD
BEGIN:DAYLIGHT
TZNAME:EDT
DTSTART:20260308T020000
TZOFFSETFROM:-0500
TZOFFSETTO:-0400
RDATE:20270314T020000
END:DAYLIGHT
END:VTIMEZONE
BEGIN:VEVENT
UID:1dd23f5d-5da3-4f25-b736-75c2aadc89f7
DTSTAMP:20260424T092947Z
DESCRIPTION:On this date in 1943\, Project BEECHNUT\, a special US/UK crypt
 analytic activity\, was established.\n\nFor more info\, view the online NS
 A publication\, 'History of U.S. Communications Intelligence during World 
 War II: Policy and Administration\,' by Robert L. Benson. See link below.
DTSTART;TZID=America/New_York:20260709T000000
DTEND;TZID=America/New_York:20260709T235900
LOCATION:
SUMMARY:1943: Project BEECHNUT established.
END:VEVENT
END:VCALENDAR
