BEGIN:VCALENDAR
VERSION:2.0
PRODID:-//archive.cryptologicfoundation.org//NONSGML kigkonsult.se iCalcrea
 tor 2.30.10//
CALSCALE:GREGORIAN
METHOD:PUBLISH
UID:3714fb11-f6ad-4203-b8fb-819eb7bd7f06
X-WR-CALDESC:9 July 1957: First public acknowledgment of NSA.
X-WR-RELCALID:e1c5943ccb93bfe82a7b98743144bdbd
X-WR-TIMEZONE:America/New_York
BEGIN:VTIMEZONE
TZID:America/New_York
BEGIN:STANDARD
TZNAME:EST
DTSTART:20251102T020000
TZOFFSETFROM:-0400
TZOFFSETTO:-0500
RDATE:20261101T020000
RDATE:20271107T020000
END:STANDARD
BEGIN:DAYLIGHT
TZNAME:EDT
DTSTART:20260308T020000
TZOFFSETFROM:-0500
TZOFFSETTO:-0400
RDATE:20270314T020000
END:DAYLIGHT
END:VTIMEZONE
BEGIN:VEVENT
UID:6321f997-8852-4181-9a43-460ce087fbf3
DTSTAMP:20260424T093226Z
DESCRIPTION:9 July 1957: First public acknowledgment of NSA.
DTSTART;TZID=America/New_York:20260709T000000
DTEND;TZID=America/New_York:20260709T235900
LOCATION:
SUMMARY:1957: First public acknowledgment of NSA
END:VEVENT
END:VCALENDAR
