BEGIN:VCALENDAR
VERSION:2.0
PRODID:-//archive.cryptologicfoundation.org//NONSGML kigkonsult.se iCalcrea
 tor 2.30.10//
CALSCALE:GREGORIAN
METHOD:PUBLISH
UID:60483643-bbeb-4d89-af17-ee43daa3c5fd
X-WR-CALDESC:12 July 1918 - William Friedman (then a First Lieutenant) repo
 rted to AEF G2A6 Chaumont\, France. G2A26 was the Radio Intelligence Secti
 on of Military Intelligence and was primarily charged with code and cipher
  cryptanalysis.\n\nLearn about the career of William F. Friedman by search
 ing the NSA's Online Collection of Historical Papers related to William Fr
 iedman. See the link below.
X-WR-RELCALID:a40c7ba1297813fb0fd5870cba4f9048
X-WR-TIMEZONE:America/New_York
BEGIN:VTIMEZONE
TZID:America/New_York
BEGIN:STANDARD
TZNAME:EST
DTSTART:20251102T020000
TZOFFSETFROM:-0400
TZOFFSETTO:-0500
RDATE:20261101T020000
RDATE:20271107T020000
END:STANDARD
BEGIN:DAYLIGHT
TZNAME:EDT
DTSTART:20260308T020000
TZOFFSETFROM:-0500
TZOFFSETTO:-0400
RDATE:20270314T020000
END:DAYLIGHT
END:VTIMEZONE
BEGIN:VEVENT
UID:f0c78baf-dd08-4c92-8f0c-9d1a814e8413
DTSTAMP:20260424T093829Z
DESCRIPTION:12 July 1918 - William Friedman (then a First Lieutenant) repor
 ted to AEF G2A6 Chaumont\, France. G2A26 was the Radio Intelligence Sectio
 n of Military Intelligence and was primarily charged with code and cipher 
 cryptanalysis.\n\nLearn about the career of William F. Friedman by searchi
 ng the NSA's Online Collection of Historical Papers related to William Fri
 edman. See the link below.
DTSTART;TZID=America/New_York:20260712T000000
DTEND;TZID=America/New_York:20260712T235900
LOCATION:
SUMMARY:1918: William Friedman reports to AEF G2A6 Chaumont\, France
END:VEVENT
END:VCALENDAR
