BEGIN:VCALENDAR
VERSION:2.0
PRODID:-//archive.cryptologicfoundation.org//NONSGML kigkonsult.se iCalcrea
 tor 2.30.10//
CALSCALE:GREGORIAN
METHOD:PUBLISH
UID:f30b740d-04dd-47b2-9500-0804ff76c476
X-WR-CALDESC:On this date in 2016\, the NSA Hawaii (NSAH) facility was dedi
 cated as the Washington Wong Building.\n\nWashington Wong\, who was born i
 n Hawaii to a Chinese father and a Japanese mother\, grew up speaking both
  Chinese and Japanese fluently. After the Korean War\, Mr. Wong joined NSA
  and served as a language expert specializing in the collection of informa
 tion against China. He became well-known for his mentorship of linguists. 
 He made time for every individual who needed help. Mr. Wong served as the 
 Interpreter of Record for four decades in Chinese and Japanese for the Dir
 ector of NSA. He was inducted into the NSA/CSS Cryptologic Hall of Honor i
 n 2013. \n\nLearn more via the link below.
X-WR-RELCALID:3a0114388c66024b3184eb37e32ce716
X-WR-TIMEZONE:America/New_York
BEGIN:VTIMEZONE
TZID:America/New_York
BEGIN:STANDARD
TZNAME:EST
DTSTART:20251102T020000
TZOFFSETFROM:-0400
TZOFFSETTO:-0500
RDATE:20261101T020000
RDATE:20271107T020000
END:STANDARD
BEGIN:DAYLIGHT
TZNAME:EDT
DTSTART:20260308T020000
TZOFFSETFROM:-0500
TZOFFSETTO:-0400
RDATE:20270314T020000
END:DAYLIGHT
END:VTIMEZONE
BEGIN:VEVENT
UID:142167ff-9ba4-45f3-aa4a-0123cac4fa55
DTSTAMP:20260424T093927Z
DESCRIPTION:On this date in 2016\, the NSA Hawaii (NSAH) facility was dedic
 ated as the Washington Wong Building.\n\nWashington Wong\, who was born in
  Hawaii to a Chinese father and a Japanese mother\, grew up speaking both 
 Chinese and Japanese fluently. After the Korean War\, Mr. Wong joined NSA 
 and served as a language expert specializing in the collection of informat
 ion against China. He became well-known for his mentorship of linguists. H
 e made time for every individual who needed help. Mr. Wong served as the I
 nterpreter of Record for four decades in Chinese and Japanese for the Dire
 ctor of NSA. He was inducted into the NSA/CSS Cryptologic Hall of Honor in
  2013. \n\nLearn more via the link below.
DTSTART;TZID=America/New_York:20260713T060000
DTEND;TZID=America/New_York:20260713T060001
LOCATION:
SUMMARY:2016: The NSA Hawaii (NSAH) facility was dedicated as the Washingto
 n Wong Building.
END:VEVENT
END:VCALENDAR
