BEGIN:VCALENDAR
VERSION:2.0
PRODID:-//archive.cryptologicfoundation.org//NONSGML kigkonsult.se iCalcrea
 tor 2.30.10//
CALSCALE:GREGORIAN
METHOD:PUBLISH
UID:9a83f1ae-7ced-4460-9b82-0112241c9432
X-WR-CALDESC:14 July 1977: The U.S. House of Representatives established Pe
 rmanent Select Committee on Intelligence. The House Permanent Select Commi
 ttee on Intelligence is the primary committee in the House of Representati
 ves charged with the oversight of the United States Intelligence Community
 . It shares some jurisdiction with other committees in the House\, includi
 ng the Armed Services Committee\, for some matters dealing with the Depart
 ment of Defense and the various branches of the U.S. military.\n\nThe crea
 tion of the HPSCI and the Senate Select Committee on Intelligence both cam
 e about as a result of the recommendations of two congressional investigat
 ory panels established in 1975 to look into allegation of CIA abuses:\n\n 
    The Church Committee\, named for its chairman Senator Frank Church of I
 daho\; and\n    The Pike Committee in the House\, chaired by Representativ
 e Otis Pike of New York.\n\nToday\, the impact of both committees can be f
 ound in the accountability\, efficiency\, and cohesion of the American Int
 elligence Community.\n\n \n
X-WR-RELCALID:970a1ce4f6155717c3035ccaa6b146a7
X-WR-TIMEZONE:America/New_York
BEGIN:VTIMEZONE
TZID:America/New_York
BEGIN:STANDARD
TZNAME:EST
DTSTART:20251102T020000
TZOFFSETFROM:-0400
TZOFFSETTO:-0500
RDATE:20261101T020000
RDATE:20271107T020000
END:STANDARD
BEGIN:DAYLIGHT
TZNAME:EDT
DTSTART:20260308T020000
TZOFFSETFROM:-0500
TZOFFSETTO:-0400
RDATE:20270314T020000
END:DAYLIGHT
END:VTIMEZONE
BEGIN:VEVENT
UID:e91e7a5f-0f14-490a-a548-a6ba624a2c3b
DTSTAMP:20260424T094020Z
DESCRIPTION:14 July 1977: The U.S. House of Representatives established Per
 manent Select Committee on Intelligence. The House Permanent Select Commit
 tee on Intelligence is the primary committee in the House of Representativ
 es charged with the oversight of the United States Intelligence Community.
  It shares some jurisdiction with other committees in the House\, includin
 g the Armed Services Committee\, for some matters dealing with the Departm
 ent of Defense and the various branches of the U.S. military.\n\nThe creat
 ion of the HPSCI and the Senate Select Committee on Intelligence both came
  about as a result of the recommendations of two congressional investigato
 ry panels established in 1975 to look into allegation of CIA abuses:\n\n  
   The Church Committee\, named for its chairman Senator Frank Church of Id
 aho\; and\n    The Pike Committee in the House\, chaired by Representative
  Otis Pike of New York.\n\nToday\, the impact of both committees can be fo
 und in the accountability\, efficiency\, and cohesion of the American Inte
 lligence Community.\n\n \n
DTSTART;TZID=America/New_York:20260714T000000
DTEND;TZID=America/New_York:20260714T235900
LOCATION:
SUMMARY:1977: House of Representatives Established Permanent Select Committ
 ee on Intelligence.
END:VEVENT
END:VCALENDAR
