BEGIN:VCALENDAR
VERSION:2.0
PRODID:-//archive.cryptologicfoundation.org//NONSGML kigkonsult.se iCalcrea
 tor 2.30.10//
CALSCALE:GREGORIAN
METHOD:PUBLISH
UID:333128cd-2a0b-4078-9622-4a3656049fc3
X-WR-CALDESC:15 July 1951: The U.S. State Department established a liaison 
 unit at Arlington Hall.
X-WR-RELCALID:60b87c742074ec2adb18df45f4982d3c
X-WR-TIMEZONE:America/New_York
BEGIN:VTIMEZONE
TZID:America/New_York
BEGIN:STANDARD
TZNAME:EST
DTSTART:20251102T020000
TZOFFSETFROM:-0400
TZOFFSETTO:-0500
RDATE:20261101T020000
RDATE:20271107T020000
END:STANDARD
BEGIN:DAYLIGHT
TZNAME:EDT
DTSTART:20260308T020000
TZOFFSETFROM:-0500
TZOFFSETTO:-0400
RDATE:20270314T020000
END:DAYLIGHT
END:VTIMEZONE
BEGIN:VEVENT
UID:6df5d7c7-efd8-44fc-94a1-a37f065eed51
DTSTAMP:20260424T093737Z
DESCRIPTION:15 July 1951: The U.S. State Department established a liaison u
 nit at Arlington Hall.
DTSTART;TZID=America/New_York:20260715T000000
DTEND;TZID=America/New_York:20260715T235900
LOCATION:
SUMMARY:1951: State Department established liaison unit at Arlington Hall.
END:VEVENT
END:VCALENDAR
