BEGIN:VCALENDAR
VERSION:2.0
PRODID:-//archive.cryptologicfoundation.org//NONSGML kigkonsult.se iCalcrea
 tor 2.30.10//
CALSCALE:GREGORIAN
METHOD:PUBLISH
UID:b1f8a25a-534d-4eaa-a3bb-60a4a6c1501b
X-WR-CALDESC:On 15 July 1949\, RADM Earl E. Stone\, USN\, was named the fir
 st director of the AFSA. The mission of the AFSA was to try and coordinate
  SIGINT operations by the three armed services. AFSA was created in May 19
 49 and was the immediate predecessor of the National Security Agency. As t
 he first director\, Stone presided over the initial and stormy U.S. govern
 ment attempts to centralize this country's cryptologic efforts.\n\nLearn m
 ore about RADM Earl E. Stone\, USN\, via the link below.
X-WR-RELCALID:5acbb40f5875d49f5a4db2f2f5d3b954
X-WR-TIMEZONE:America/New_York
BEGIN:VTIMEZONE
TZID:America/New_York
BEGIN:STANDARD
TZNAME:EST
DTSTART:20251102T020000
TZOFFSETFROM:-0400
TZOFFSETTO:-0500
RDATE:20261101T020000
RDATE:20271107T020000
END:STANDARD
BEGIN:DAYLIGHT
TZNAME:EDT
DTSTART:20260308T020000
TZOFFSETFROM:-0500
TZOFFSETTO:-0400
RDATE:20270314T020000
END:DAYLIGHT
END:VTIMEZONE
BEGIN:VEVENT
UID:8d70691c-b7c3-4af8-bf02-7bbfa5162fe0
DTSTAMP:20260424T093741Z
DESCRIPTION:On 15 July 1949\, RADM Earl E. Stone\, USN\, was named the firs
 t director of the AFSA. The mission of the AFSA was to try and coordinate 
 SIGINT operations by the three armed services. AFSA was created in May 194
 9 and was the immediate predecessor of the National Security Agency. As th
 e first director\, Stone presided over the initial and stormy U.S. governm
 ent attempts to centralize this country's cryptologic efforts.\n\nLearn mo
 re about RADM Earl E. Stone\, USN\, via the link below.
DTSTART;TZID=America/New_York:20260715T060000
DTEND;TZID=America/New_York:20260715T060001
LOCATION:
SUMMARY:1949: AFSA formally activated\, RADM Earl E. Stone\, USN\, named di
 rector.
END:VEVENT
END:VCALENDAR
