BEGIN:VCALENDAR
VERSION:2.0
PRODID:-//archive.cryptologicfoundation.org//NONSGML kigkonsult.se iCalcrea
 tor 2.30.10//
CALSCALE:GREGORIAN
METHOD:PUBLISH
UID:4b54f8b6-faee-44df-a701-78e6d3040de7
X-WR-CALDESC:15 July 1951: MG Ralph J. Canine\, USA\, was named Director\, 
 AFSA (the direct predecessor of NSA). He then became NSA's first director.
  Canine is today credited with lifting NSA out of the chaos that it found 
 itself in by November 1952\, and\, in the span of four short years\, makin
 g NSA a top-flight SIGINT organization and a force to be reckoned with ins
 ide the U.S. intelligence community.\n\nRead about the life of Ralph J. Ca
 nine - the NSA's first director\, via the NSA article 'Glimpses of a Man\,
 ' as well as his NSA Hall of Honor page (links below).
X-WR-RELCALID:049ac860eb7d8d04c6fde6ac61d6f1de
X-WR-TIMEZONE:America/New_York
BEGIN:VTIMEZONE
TZID:America/New_York
BEGIN:STANDARD
TZNAME:EST
DTSTART:20251102T020000
TZOFFSETFROM:-0400
TZOFFSETTO:-0500
RDATE:20261101T020000
RDATE:20271107T020000
END:STANDARD
BEGIN:DAYLIGHT
TZNAME:EDT
DTSTART:20260308T020000
TZOFFSETFROM:-0500
TZOFFSETTO:-0400
RDATE:20270314T020000
END:DAYLIGHT
END:VTIMEZONE
BEGIN:VEVENT
UID:ceb64273-61c1-4ca6-8d5f-aa4075064cb2
DTSTAMP:20260424T093839Z
DESCRIPTION:15 July 1951: MG Ralph J. Canine\, USA\, was named Director\, A
 FSA (the direct predecessor of NSA). He then became NSA's first director. 
 Canine is today credited with lifting NSA out of the chaos that it found i
 tself in by November 1952\, and\, in the span of four short years\, making
  NSA a top-flight SIGINT organization and a force to be reckoned with insi
 de the U.S. intelligence community.\n\nRead about the life of Ralph J. Can
 ine - the NSA's first director\, via the NSA article 'Glimpses of a Man\,'
  as well as his NSA Hall of Honor page (links below).
DTSTART;TZID=America/New_York:20260715T060000
DTEND;TZID=America/New_York:20260715T060001
LOCATION:
SUMMARY:1951: MG Ralph J. Canine\, USA\, named Director\, AFSA
END:VEVENT
END:VCALENDAR
