BEGIN:VCALENDAR
VERSION:2.0
PRODID:-//archive.cryptologicfoundation.org//NONSGML kigkonsult.se iCalcrea
 tor 2.30.10//
CALSCALE:GREGORIAN
METHOD:PUBLISH
UID:325d4c22-14a9-4e70-95be-24593bcac77d
X-WR-CALDESC:17 July 1586: Mary\, Queen of Scots\, sent a treasonous respon
 se to the Babington Letter. Pictured here is the cipher code used by Mary\
 , Queen of Scots - image via Wikipedia. On 8 February 1587\, she was execu
 ted for treason\, as a result of a solution of a cryptosystem she was usin
 g in a conspiracy to assassinate Queen Elizabeth (Babington Plot).
X-WR-RELCALID:8d1a5b0523ce33e9ee39f810f4fd6542
X-WR-TIMEZONE:America/New_York
BEGIN:VTIMEZONE
TZID:America/New_York
BEGIN:STANDARD
TZNAME:EST
DTSTART:20251102T020000
TZOFFSETFROM:-0400
TZOFFSETTO:-0500
RDATE:20261101T020000
RDATE:20271107T020000
END:STANDARD
BEGIN:DAYLIGHT
TZNAME:EDT
DTSTART:20260308T020000
TZOFFSETFROM:-0500
TZOFFSETTO:-0400
RDATE:20270314T020000
END:DAYLIGHT
END:VTIMEZONE
BEGIN:VEVENT
UID:a1d0c2f6-2c5a-4172-a5ab-1dc3c0d1057c
DTSTAMP:20260424T094000Z
DESCRIPTION:17 July 1586: Mary\, Queen of Scots\, sent a treasonous respons
 e to the Babington Letter. Pictured here is the cipher code used by Mary\,
  Queen of Scots - image via Wikipedia. On 8 February 1587\, she was execut
 ed for treason\, as a result of a solution of a cryptosystem she was using
  in a conspiracy to assassinate Queen Elizabeth (Babington Plot).
DTSTART;TZID=America/New_York:20260717T000000
DTEND;TZID=America/New_York:20260717T235900
LOCATION:
SUMMARY:1586: Mary\, Queen of Scots\, sent treasonous coded response to the
  Babington Letter.
END:VEVENT
END:VCALENDAR
