BEGIN:VCALENDAR
VERSION:2.0
PRODID:-//archive.cryptologicfoundation.org//NONSGML kigkonsult.se iCalcrea
 tor 2.30.10//
CALSCALE:GREGORIAN
METHOD:PUBLISH
UID:f6ed0bbd-c1ea-4196-855b-934172e987d6
X-WR-CALDESC:17 July 1911: Cryptologic pioneers Parker Hitt & Genevieve You
 ng were married. In the photo are Parker and Genevieve Young Hitt with the
 ir daughter and their family dogs. \n\nColonel Parker Hitt's work\, 'The M
 anual for the Solution of Military Ciphers\,' published in 1916\, was the 
 first work of its kind in the United States in 100 years and laid the foun
 dation for the nation's impressive cryptologic achievements during the 20t
 h century. At a time when the nation had no formal cryptologic service\, P
 arker Hitt's innovative work documented concepts and principles that would
  be used to protect U.S. military communications for decades. His work als
 o directly influenced William and Elizebeth Friedman\, who referred to him
  as the 'father of modern American cryptology.' He was inducted into the N
 SA/CSS Cryptologic Hall of Honor in 2011.\n\nAs a young Texas debutante\, 
 Ms. Hitt probably never suspected she would one day be described as 'the U
 .S. Government's first female cryptologist.' She likely developed an inter
 est in cryptology alongside her husband\, Colonel Parker Hitt. Ms. Hitt de
 monstrated a clear knack for cipher work and aside from a brief visit to R
 iverbank Laboratories\, was self-taught. She initially deciphered messages
  without salary and in 1918 became a salaried Army employee\, performing c
 ode work for $1\,000 per year. She has also been credited with assisting i
 n the preparation and compilation of her husband's seminal work\, Manual f
 or the Solution of Military Ciphers\, published by the Army in 1916.\n\nSe
 e links below to learn much more.
X-WR-RELCALID:dda57932e994ba42078c29320e99080a
X-WR-TIMEZONE:America/New_York
BEGIN:VTIMEZONE
TZID:America/New_York
BEGIN:STANDARD
TZNAME:EST
DTSTART:20251102T020000
TZOFFSETFROM:-0400
TZOFFSETTO:-0500
RDATE:20261101T020000
RDATE:20271107T020000
END:STANDARD
BEGIN:DAYLIGHT
TZNAME:EDT
DTSTART:20260308T020000
TZOFFSETFROM:-0500
TZOFFSETTO:-0400
RDATE:20270314T020000
END:DAYLIGHT
END:VTIMEZONE
BEGIN:VEVENT
UID:d6bb0eb7-9770-4d5f-b4b0-fd858cae3674
DTSTAMP:20260424T093930Z
DESCRIPTION:17 July 1911: Cryptologic pioneers Parker Hitt & Genevieve Youn
 g were married. In the photo are Parker and Genevieve Young Hitt with thei
 r daughter and their family dogs. \n\nColonel Parker Hitt's work\, 'The Ma
 nual for the Solution of Military Ciphers\,' published in 1916\, was the f
 irst work of its kind in the United States in 100 years and laid the found
 ation for the nation's impressive cryptologic achievements during the 20th
  century. At a time when the nation had no formal cryptologic service\, Pa
 rker Hitt's innovative work documented concepts and principles that would 
 be used to protect U.S. military communications for decades. His work also
  directly influenced William and Elizebeth Friedman\, who referred to him 
 as the 'father of modern American cryptology.' He was inducted into the NS
 A/CSS Cryptologic Hall of Honor in 2011.\n\nAs a young Texas debutante\, M
 s. Hitt probably never suspected she would one day be described as 'the U.
 S. Government's first female cryptologist.' She likely developed an intere
 st in cryptology alongside her husband\, Colonel Parker Hitt. Ms. Hitt dem
 onstrated a clear knack for cipher work and aside from a brief visit to Ri
 verbank Laboratories\, was self-taught. She initially deciphered messages 
 without salary and in 1918 became a salaried Army employee\, performing co
 de work for $1\,000 per year. She has also been credited with assisting in
  the preparation and compilation of her husband's seminal work\, Manual fo
 r the Solution of Military Ciphers\, published by the Army in 1916.\n\nSee
  links below to learn much more.
DTSTART;TZID=America/New_York:20260717T060000
DTEND;TZID=America/New_York:20260717T060001
LOCATION:
SUMMARY:1911: Cryptologic pioneers Parker Hitt & Genevieve Young were marri
 ed.
END:VEVENT
END:VCALENDAR
