BEGIN:VCALENDAR
VERSION:2.0
PRODID:-//archive.cryptologicfoundation.org//NONSGML kigkonsult.se iCalcrea
 tor 2.30.10//
CALSCALE:GREGORIAN
METHOD:PUBLISH
UID:ed7b7685-dec0-4d92-92f0-4e38d1c847d9
X-WR-CALDESC:On 20 July 1942\, General MacArthur moved his Headquarters to 
 Brisbane. Central Bureau relocated to Brisbane in September 1942\, establi
 shing its headquarters in 'Nyrambla'\, a huge house at 21 Henry Street\, h
 igh on a hill in the suburb of Ascot\, not far from the new American airfi
 eld at Eagle Farm. This move was necessary to ensure that Central Bureau w
 as in close touch with GHQ SWPA and Allie Air Intelligence. It also reduce
 d the time lage in the passage of raw material from the Field Units.\n\nIn
 fo from ozatwar.com: \n\nCentral Bureau was a joint American-Australian Si
 gint organisation which was established on 6 April 1942 under the command 
 of Major General S. B. Akin with its headquarters based in Melbourne. Gene
 ral MacArthur advised Washington of his decision in a dispatch on 1 April 
 1942. He described the role of the group as 'the interception and cryptana
 lyzing of Japanese intelligence.' The name Central Bureau was chosen so as
  to convey no information whatever to outsiders as to the nature of the wo
 rk being done. Major Abraham 'Abe' Sinkov\, a mathematician\, was appointe
 d Assistant Director of Central Bureau.\n\nCentral Bureau was attached to 
 the HQ of the Allied Commander of the South West Pacific area. The other u
 nit was the joint RAN/USN Fleet Radio Unit\, Melbourne (FRUMEL)\, which wa
 s subordinate to the Commander of the USN 7th Fleet. \n\nLearn more via th
 e link below.
X-WR-RELCALID:1e139a30aaac2af90bd463c7758d793d
X-WR-TIMEZONE:America/New_York
BEGIN:VTIMEZONE
TZID:America/New_York
BEGIN:STANDARD
TZNAME:EST
DTSTART:20251102T020000
TZOFFSETFROM:-0400
TZOFFSETTO:-0500
RDATE:20261101T020000
RDATE:20271107T020000
END:STANDARD
BEGIN:DAYLIGHT
TZNAME:EDT
DTSTART:20260308T020000
TZOFFSETFROM:-0500
TZOFFSETTO:-0400
RDATE:20270314T020000
END:DAYLIGHT
END:VTIMEZONE
BEGIN:VEVENT
UID:e5711975-cb8a-4b09-8e92-dd86cd93b063
DTSTAMP:20260424T093842Z
DESCRIPTION:On 20 July 1942\, General MacArthur moved his Headquarters to B
 risbane. Central Bureau relocated to Brisbane in September 1942\, establis
 hing its headquarters in 'Nyrambla'\, a huge house at 21 Henry Street\, hi
 gh on a hill in the suburb of Ascot\, not far from the new American airfie
 ld at Eagle Farm. This move was necessary to ensure that Central Bureau wa
 s in close touch with GHQ SWPA and Allie Air Intelligence. It also reduced
  the time lage in the passage of raw material from the Field Units.\n\nInf
 o from ozatwar.com: \n\nCentral Bureau was a joint American-Australian Sig
 int organisation which was established on 6 April 1942 under the command o
 f Major General S. B. Akin with its headquarters based in Melbourne. Gener
 al MacArthur advised Washington of his decision in a dispatch on 1 April 1
 942. He described the role of the group as 'the interception and cryptanal
 yzing of Japanese intelligence.' The name Central Bureau was chosen so as 
 to convey no information whatever to outsiders as to the nature of the wor
 k being done. Major Abraham 'Abe' Sinkov\, a mathematician\, was appointed
  Assistant Director of Central Bureau.\n\nCentral Bureau was attached to t
 he HQ of the Allied Commander of the South West Pacific area. The other un
 it was the joint RAN/USN Fleet Radio Unit\, Melbourne (FRUMEL)\, which was
  subordinate to the Commander of the USN 7th Fleet. \n\nLearn more via the
  link below.
DTSTART;TZID=America/New_York:20260720T000000
DTEND;TZID=America/New_York:20260720T235900
LOCATION:
SUMMARY:1942: Gen MacArthur moved HQ to Brisbane. Central Bureau moved in S
 ept.
END:VEVENT
END:VCALENDAR
