BEGIN:VCALENDAR
VERSION:2.0
PRODID:-//archive.cryptologicfoundation.org//NONSGML kigkonsult.se iCalcrea
 tor 2.30.10//
CALSCALE:GREGORIAN
METHOD:PUBLISH
UID:09aabd28-e725-4d26-9f2a-8bad2218efcd
X-WR-CALDESC:20 July 1976: Joseph Rochefort\, who led Station HYPO in WWII\
 , died on this date. \n\nStation HYPO was the U.S. Navy’s signals monitori
 ng and cryptographic intelligence unit at Pearl Harbor\, and was responsib
 le for breaking the Japanese navy’s code before the Battle of Midway.\n\nJ
 oseph Rochefort was inducted into the Cryptologic Hall of Honor in 2000. V
 isit the link below to learn more.\n\nIf you'd like to learn more about Jo
 seph Rochefort\, don't miss Elliot Carlson's book\, 'Joe Rochefort's War\,
 ' which covers not only the military strategy and intelligence background\
 , but also the personality and politics surrounding Rochefort and signific
 ant events he participated in. Learn more about the book via the link belo
 w.
X-WR-RELCALID:648555e03f6997b859da0d09a622ead2
X-WR-TIMEZONE:America/New_York
BEGIN:VTIMEZONE
TZID:America/New_York
BEGIN:STANDARD
TZNAME:EST
DTSTART:20251102T020000
TZOFFSETFROM:-0400
TZOFFSETTO:-0500
RDATE:20261101T020000
RDATE:20271107T020000
END:STANDARD
BEGIN:DAYLIGHT
TZNAME:EDT
DTSTART:20260308T020000
TZOFFSETFROM:-0500
TZOFFSETTO:-0400
RDATE:20270314T020000
END:DAYLIGHT
END:VTIMEZONE
BEGIN:VEVENT
UID:079ea8de-bcfd-4c7a-a2af-a9c5db2b44ea
DTSTAMP:20260424T093838Z
DESCRIPTION:20 July 1976: Joseph Rochefort\, who led Station HYPO in WWII\,
  died on this date. \n\nStation HYPO was the U.S. Navy’s signals monitorin
 g and cryptographic intelligence unit at Pearl Harbor\, and was responsibl
 e for breaking the Japanese navy’s code before the Battle of Midway.\n\nJo
 seph Rochefort was inducted into the Cryptologic Hall of Honor in 2000. Vi
 sit the link below to learn more.\n\nIf you'd like to learn more about Jos
 eph Rochefort\, don't miss Elliot Carlson's book\, 'Joe Rochefort's War\,'
  which covers not only the military strategy and intelligence background\,
  but also the personality and politics surrounding Rochefort and significa
 nt events he participated in. Learn more about the book via the link below
 .
DTSTART;TZID=America/New_York:20260720T000000
DTEND;TZID=America/New_York:20260720T235900
LOCATION:
SUMMARY:1976: Joseph Rochefort\, who led Station HYPO in WWII\, died.
END:VEVENT
END:VCALENDAR
