BEGIN:VCALENDAR
VERSION:2.0
PRODID:-//archive.cryptologicfoundation.org//NONSGML kigkonsult.se iCalcrea
 tor 2.30.10//
CALSCALE:GREGORIAN
METHOD:PUBLISH
UID:ed8e2523-f6f8-4bc9-a723-beb67fd5ee20
X-WR-CALDESC:22 July 2004: 9/11 Commission Report was released.\n\nThe Nati
 onal Commission on Terrorist Attacks Upon the United States (also known as
  the 9-11 Commission)\, an independent\, bipartisan commission created by 
 congressional legislation and the signature of President George W. Bush in
  late 2002\, was chartered to prepare a full and complete account of the c
 ircumstances surrounding the September 11\, 2001 terrorist attacks\, inclu
 ding preparedness for and the immediate response to the attacks. The Commi
 ssion is also mandated to provide recommendations designed to guard agains
 t future attacks.\n\nOn July 22\, 2004 the Commission released its public 
 report. Get more information and download a copy of the report via the lin
 k below.
X-WR-RELCALID:49bb9d832425ad7a7ef6696b8bc6fa68
X-WR-TIMEZONE:America/New_York
BEGIN:VTIMEZONE
TZID:America/New_York
BEGIN:STANDARD
TZNAME:EST
DTSTART:20251102T020000
TZOFFSETFROM:-0400
TZOFFSETTO:-0500
RDATE:20261101T020000
RDATE:20271107T020000
END:STANDARD
BEGIN:DAYLIGHT
TZNAME:EDT
DTSTART:20260308T020000
TZOFFSETFROM:-0500
TZOFFSETTO:-0400
RDATE:20270314T020000
END:DAYLIGHT
END:VTIMEZONE
BEGIN:VEVENT
UID:2008cc33-4332-4291-810c-444d447e6f7f
DTSTAMP:20260424T093029Z
DESCRIPTION:22 July 2004: 9/11 Commission Report was released.\n\nThe Natio
 nal Commission on Terrorist Attacks Upon the United States (also known as 
 the 9-11 Commission)\, an independent\, bipartisan commission created by c
 ongressional legislation and the signature of President George W. Bush in 
 late 2002\, was chartered to prepare a full and complete account of the ci
 rcumstances surrounding the September 11\, 2001 terrorist attacks\, includ
 ing preparedness for and the immediate response to the attacks. The Commis
 sion is also mandated to provide recommendations designed to guard against
  future attacks.\n\nOn July 22\, 2004 the Commission released its public r
 eport. Get more information and download a copy of the report via the link
  below.
DTSTART;TZID=America/New_York:20260722T000000
DTEND;TZID=America/New_York:20260722T235900
LOCATION:
SUMMARY:2004: 9/11 Commission Report Released.
END:VEVENT
END:VCALENDAR
