BEGIN:VCALENDAR
VERSION:2.0
PRODID:-//archive.cryptologicfoundation.org//NONSGML kigkonsult.se iCalcrea
 tor 2.30.10//
CALSCALE:GREGORIAN
METHOD:PUBLISH
UID:21315a43-9ca5-4b33-ad61-384812dc18fc
X-WR-CALDESC:27 July 1866: The first use of transatlantic telegraphic cable
  generated an upsurge in commercial cryptography. Initially messages on th
 e 1858 cable were sent by an operator in Morse code. However\, the 1866 ca
 ble could transmit at eight words a minute–80 times faster than the 1858 c
 able.\n\nThe 'Great Eastern' was the name of the cable-laying ship that la
 id the successful cable in 1866. Historians have said the endeavor was the
  Victorian equivalent of the Apollo space program.\n\nThe first message wa
 s received in Newfoundland almost immediately but there was still a gap in
  the link to the mainland of North America and messages from London to New
  York still took 24 hours because of this gap. However\, this did not conc
 ern people at the time who were amazed at the rapid news that was now poss
 ible.
X-WR-RELCALID:f5b0503636c6b2d52f0ab968633a9989
X-WR-TIMEZONE:America/New_York
BEGIN:VTIMEZONE
TZID:America/New_York
BEGIN:STANDARD
TZNAME:EST
DTSTART:20251102T020000
TZOFFSETFROM:-0400
TZOFFSETTO:-0500
RDATE:20261101T020000
RDATE:20271107T020000
END:STANDARD
BEGIN:DAYLIGHT
TZNAME:EDT
DTSTART:20260308T020000
TZOFFSETFROM:-0500
TZOFFSETTO:-0400
RDATE:20270314T020000
END:DAYLIGHT
END:VTIMEZONE
BEGIN:VEVENT
UID:d63749c8-3d80-4527-a9f2-7834ac0464bc
DTSTAMP:20260424T093354Z
DESCRIPTION:27 July 1866: The first use of transatlantic telegraphic cable 
 generated an upsurge in commercial cryptography. Initially messages on the
  1858 cable were sent by an operator in Morse code. However\, the 1866 cab
 le could transmit at eight words a minute–80 times faster than the 1858 ca
 ble.\n\nThe 'Great Eastern' was the name of the cable-laying ship that lai
 d the successful cable in 1866. Historians have said the endeavor was the 
 Victorian equivalent of the Apollo space program.\n\nThe first message was
  received in Newfoundland almost immediately but there was still a gap in 
 the link to the mainland of North America and messages from London to New 
 York still took 24 hours because of this gap. However\, this did not conce
 rn people at the time who were amazed at the rapid news that was now possi
 ble.
DTSTART;TZID=America/New_York:20260727T000000
DTEND;TZID=America/New_York:20260727T235900
LOCATION:
SUMMARY:1866: First use of transatlantic telegraph cable.
END:VEVENT
END:VCALENDAR
