BEGIN:VCALENDAR
VERSION:2.0
PRODID:-//archive.cryptologicfoundation.org//NONSGML kigkonsult.se iCalcrea
 tor 2.30.10//
CALSCALE:GREGORIAN
METHOD:PUBLISH
UID:be51e4d0-5b27-4761-a036-893134471178
X-WR-CALDESC:28 July 1916: The US Navy Code and Signal Section was establis
 hed.
X-WR-RELCALID:f5a313a80c3f2e06723a882d860be7f0
X-WR-TIMEZONE:America/New_York
BEGIN:VTIMEZONE
TZID:America/New_York
BEGIN:STANDARD
TZNAME:EST
DTSTART:20251102T020000
TZOFFSETFROM:-0400
TZOFFSETTO:-0500
RDATE:20261101T020000
RDATE:20271107T020000
END:STANDARD
BEGIN:DAYLIGHT
TZNAME:EDT
DTSTART:20260308T020000
TZOFFSETFROM:-0500
TZOFFSETTO:-0400
RDATE:20270314T020000
END:DAYLIGHT
END:VTIMEZONE
BEGIN:VEVENT
UID:a08162d9-9b62-496b-b1eb-1f7030c7dabc
DTSTAMP:20260424T093057Z
DESCRIPTION:28 July 1916: The US Navy Code and Signal Section was establish
 ed.
DTSTART;TZID=America/New_York:20260728T000000
DTEND;TZID=America/New_York:20260728T235900
LOCATION:
SUMMARY:1916: U.S. Navy Code & Signal Section was established.
END:VEVENT
END:VCALENDAR
