BEGIN:VCALENDAR
VERSION:2.0
PRODID:-//archive.cryptologicfoundation.org//NONSGML kigkonsult.se iCalcrea
 tor 2.30.10//
CALSCALE:GREGORIAN
METHOD:PUBLISH
UID:7f8b3da2-c45c-4235-a4a6-0100c4ba9346
X-WR-CALDESC:29 July 1806: Aaron Burr’s “Cipher Letter” to General Wilkinso
 n......led to charges of treason against Burr. The Letter was part of the 
 'Burr Conspiracy' -- Aaron Burr's attempt to detach the Western states and
  the Louisiana Territory from the Union. Pictured here is a portion of the
  cipher key used in the Letter from Burr to Wilkinson.\n \nSummary:  Burr 
 sent a letter in cipher to General Wilkinson in New Orleans announcing he 
 had “commenced the enterprise” and that “detachments from different points
  and under different pretences will rendezvous on the Ohio” River on Novem
 ber 1. Burr wrote that the troops (pioneer settlers) would be at Natchez i
 n early December to meet Wilkinson. “The gods invite to glory and fortune\
 ,” Burr says.  <i>Wilkinson eliminates the beginning portion of the letter
  when he presents it as evidence later\, and is caught doing so by Burr.</
 i>
X-WR-RELCALID:f4dad7077568886ee87e51e474206cf8
X-WR-TIMEZONE:America/New_York
BEGIN:VTIMEZONE
TZID:America/New_York
BEGIN:STANDARD
TZNAME:EST
DTSTART:20251102T020000
TZOFFSETFROM:-0400
TZOFFSETTO:-0500
RDATE:20261101T020000
RDATE:20271107T020000
END:STANDARD
BEGIN:DAYLIGHT
TZNAME:EDT
DTSTART:20260308T020000
TZOFFSETFROM:-0500
TZOFFSETTO:-0400
RDATE:20270314T020000
END:DAYLIGHT
END:VTIMEZONE
BEGIN:VEVENT
UID:bf00e9fd-ed2b-4bd0-8442-aa294a380eec
DTSTAMP:20260424T095009Z
DESCRIPTION:29 July 1806: Aaron Burr’s “Cipher Letter” to General Wilkinson
 ......led to charges of treason against Burr. The Letter was part of the '
 Burr Conspiracy' -- Aaron Burr's attempt to detach the Western states and 
 the Louisiana Territory from the Union. Pictured here is a portion of the 
 cipher key used in the Letter from Burr to Wilkinson.\n \nSummary:  Burr s
 ent a letter in cipher to General Wilkinson in New Orleans announcing he h
 ad “commenced the enterprise” and that “detachments from different points 
 and under different pretences will rendezvous on the Ohio” River on Novemb
 er 1. Burr wrote that the troops (pioneer settlers) would be at Natchez in
  early December to meet Wilkinson. “The gods invite to glory and fortune\,
 ” Burr says.  <i>Wilkinson eliminates the beginning portion of the letter 
 when he presents it as evidence later\, and is caught doing so by Burr.</i
 >
DTSTART;TZID=America/New_York:20260729T000000
DTEND;TZID=America/New_York:20260729T235900
LOCATION:
SUMMARY:1806: Aaron Burr’s “Cipher Letter” to General Wilkinson\, leading t
 o charges of treason against Burr.
END:VEVENT
END:VCALENDAR
