BEGIN:VCALENDAR
VERSION:2.0
PRODID:-//archive.cryptologicfoundation.org//NONSGML kigkonsult.se iCalcrea
 tor 2.30.10//
CALSCALE:GREGORIAN
METHOD:PUBLISH
UID:575e7c0c-6e60-4c15-9265-b3fcb4dd721e
X-WR-CALDESC:31 July 1919 - Agnes Meyer Driscoll discharged from the US Nav
 y and began work in the same department as a civilian Navy employee. Drisc
 oll was a pioneer cryptologist and a Navy code breaker who solved codes an
 d broke Japanese naval systems. One Navy admiral described her as 'without
  peer as a cryptanalyst.' \n\nDriscoll eventually went on to work with AFS
 A and then NSA. Her inspirational career included developing new cipher ma
 chines and encouraging the use of tabulating machines for cryptanalysis. 
 \n\nOn 31 July 1959\, she retired from NSA. \n\nShe was inducted into the 
 NSA/CSS Cryptologic Hall of Honor in 2000. \n\nLearn more about Ms. Drisco
 ll via the additional links below.
X-WR-RELCALID:c45fd77ee4216d34ac20b07ab64617d9
X-WR-TIMEZONE:America/New_York
BEGIN:VTIMEZONE
TZID:America/New_York
BEGIN:STANDARD
TZNAME:EST
DTSTART:20251102T020000
TZOFFSETFROM:-0400
TZOFFSETTO:-0500
RDATE:20261101T020000
RDATE:20271107T020000
END:STANDARD
BEGIN:DAYLIGHT
TZNAME:EDT
DTSTART:20260308T020000
TZOFFSETFROM:-0500
TZOFFSETTO:-0400
RDATE:20270314T020000
END:DAYLIGHT
END:VTIMEZONE
BEGIN:VEVENT
UID:f3c92618-55cf-44b7-ad60-4e39d32ec274
DTSTAMP:20260424T093926Z
DESCRIPTION:31 July 1919 - Agnes Meyer Driscoll discharged from the US Navy
  and began work in the same department as a civilian Navy employee. Drisco
 ll was a pioneer cryptologist and a Navy code breaker who solved codes and
  broke Japanese naval systems. One Navy admiral described her as 'without 
 peer as a cryptanalyst.' \n\nDriscoll eventually went on to work with AFSA
  and then NSA. Her inspirational career included developing new cipher mac
 hines and encouraging the use of tabulating machines for cryptanalysis. \n
 \nOn 31 July 1959\, she retired from NSA. \n\nShe was inducted into the NS
 A/CSS Cryptologic Hall of Honor in 2000. \n\nLearn more about Ms. Driscoll
  via the additional links below.
DTSTART;TZID=America/New_York:20260731T060000
DTEND;TZID=America/New_York:20260731T060001
LOCATION:
SUMMARY:1919: Agnes Meyer Driscoll was discharged from the US Navy & in 195
 9\, retired from NSA.
END:VEVENT
END:VCALENDAR
