BEGIN:VCALENDAR
VERSION:2.0
PRODID:-//archive.cryptologicfoundation.org//NONSGML kigkonsult.se iCalcrea
 tor 2.30.10//
CALSCALE:GREGORIAN
METHOD:PUBLISH
UID:03916eb8-d606-43f7-8a29-b035790b27ed
X-WR-CALDESC:On 1 August 1958\, Dr. Louis Tordella became Deputy Director\,
  NSA. He served until April 1974 and became the longest serving Deputy Dir
 ector at NSA. Dr. Tordella was inducted into the NSA/CSS Cryptologic Hall 
 of Honor in 2000. Learn more about Dr. Louis Tordella via the links at the
  bottom of this page.\n\nDr. Louis W. Tordella\, a mathematician who helpe
 d break the German military code in World War II\, and later spent 16 year
 s as the deputy director of the National Security Agency. During World War
  II he worked for the Navy's codebreaking organization\, OP-20-G. His care
 er at NSA brought him to the very front rank of cryptologists. He was an e
 arly advocate of the use of computers for cryptologic work\, and helped to
  cement a close working relationship with American industry. He helped to 
 create and shape the NSA and was regarded both as a pioneer in the develop
 ment of ever more powerful and sophisticated computers to break enemy code
 s and as a master administrator who pressed for establishing a combined mi
 litary code-breaking operation and then virtually ran it under a series of
  military directors.
X-WR-RELCALID:99fd57cf0bf3b4a199e946b3f28c8b41
X-WR-TIMEZONE:America/New_York
BEGIN:VTIMEZONE
TZID:America/New_York
BEGIN:STANDARD
TZNAME:EST
DTSTART:20251102T020000
TZOFFSETFROM:-0400
TZOFFSETTO:-0500
RDATE:20261101T020000
RDATE:20271107T020000
END:STANDARD
BEGIN:DAYLIGHT
TZNAME:EDT
DTSTART:20260308T020000
TZOFFSETFROM:-0500
TZOFFSETTO:-0400
RDATE:20270314T020000
END:DAYLIGHT
END:VTIMEZONE
BEGIN:VEVENT
UID:bb175d56-2e0f-4963-86dc-583afff0b55e
DTSTAMP:20260424T111621Z
DESCRIPTION:On 1 August 1958\, Dr. Louis Tordella became Deputy Director\, 
 NSA. He served until April 1974 and became the longest serving Deputy Dire
 ctor at NSA. Dr. Tordella was inducted into the NSA/CSS Cryptologic Hall o
 f Honor in 2000. Learn more about Dr. Louis Tordella via the links at the 
 bottom of this page.\n\nDr. Louis W. Tordella\, a mathematician who helped
  break the German military code in World War II\, and later spent 16 years
  as the deputy director of the National Security Agency. During World War 
 II he worked for the Navy's codebreaking organization\, OP-20-G. His caree
 r at NSA brought him to the very front rank of cryptologists. He was an ea
 rly advocate of the use of computers for cryptologic work\, and helped to 
 cement a close working relationship with American industry. He helped to c
 reate and shape the NSA and was regarded both as a pioneer in the developm
 ent of ever more powerful and sophisticated computers to break enemy codes
  and as a master administrator who pressed for establishing a combined mil
 itary code-breaking operation and then virtually ran it under a series of 
 military directors.
DTSTART;TZID=America/New_York:20260801T000000
DTEND;TZID=America/New_York:20260801T235900
LOCATION:
SUMMARY:1958: Dr. Louis Tordella became D/DIRNSA
END:VEVENT
END:VCALENDAR
