BEGIN:VCALENDAR
VERSION:2.0
PRODID:-//archive.cryptologicfoundation.org//NONSGML kigkonsult.se iCalcrea
 tor 2.30.10//
CALSCALE:GREGORIAN
METHOD:PUBLISH
UID:a7360c54-af49-44c8-b31f-e65558492597
X-WR-CALDESC:From August 1969 to 1972\, VADM Noel Gayler\, USN\, served as 
 the 6th Director of the National Security Agency at the height of the Viet
 nam War. CSS was created in 1972 by DIRNSA VADM Noel Gayler and includes t
 he cryptologic units of each of the military services: Army\, Navy\, Marin
 e Corps\, Air Force\, and US Coast Guard. Gayler presided over the NSA SIG
 INT program\, including clandestine and space-based reconnaissance\, until
  Nixon nominated him to be chief of the U.S. Pacific Command (CINCPAC) in 
 August 1972. In that capacity he managed the closing act of the Vietnam Wa
 r. His career spanned 46 years of active duty and three wars. He was one o
 f the highest –decorated fighter pilots in Navy history\, and retired as t
 he ninth CINCPAC from 1972 to 1976\n\n
X-WR-RELCALID:dd6b90a4cc1a05d1214b03f1f409fbf6
X-WR-TIMEZONE:America/New_York
BEGIN:VTIMEZONE
TZID:America/New_York
BEGIN:STANDARD
TZNAME:EST
DTSTART:20251102T020000
TZOFFSETFROM:-0400
TZOFFSETTO:-0500
RDATE:20261101T020000
RDATE:20271107T020000
END:STANDARD
BEGIN:DAYLIGHT
TZNAME:EDT
DTSTART:20260308T020000
TZOFFSETFROM:-0500
TZOFFSETTO:-0400
RDATE:20270314T020000
END:DAYLIGHT
END:VTIMEZONE
BEGIN:VEVENT
UID:8234aeea-9796-40f1-97cf-3ed671700cc9
DTSTAMP:20260424T111826Z
DESCRIPTION:From August 1969 to 1972\, VADM Noel Gayler\, USN\, served as t
 he 6th Director of the National Security Agency at the height of the Vietn
 am War. CSS was created in 1972 by DIRNSA VADM Noel Gayler and includes th
 e cryptologic units of each of the military services: Army\, Navy\, Marine
  Corps\, Air Force\, and US Coast Guard. Gayler presided over the NSA SIGI
 NT program\, including clandestine and space-based reconnaissance\, until 
 Nixon nominated him to be chief of the U.S. Pacific Command (CINCPAC) in A
 ugust 1972. In that capacity he managed the closing act of the Vietnam War
 . His career spanned 46 years of active duty and three wars. He was one of
  the highest –decorated fighter pilots in Navy history\, and retired as th
 e ninth CINCPAC from 1972 to 1976\n\n
DTSTART;TZID=America/New_York:20260801T000000
DTEND;TZID=America/New_York:20260801T235900
LOCATION:
SUMMARY:1969: VADM Noel Gayler becomes DIRNSA
END:VEVENT
END:VCALENDAR
