BEGIN:VCALENDAR
VERSION:2.0
PRODID:-//archive.cryptologicfoundation.org//NONSGML kigkonsult.se iCalcrea
 tor 2.30.10//
CALSCALE:GREGORIAN
METHOD:PUBLISH
UID:5dacfeb4-9dc0-4c26-8ae9-21573c5d0eb0
X-WR-CALDESC:From August 1972 to August 1973\, Lt. GEN Samuel Phillips\, US
 AF\, served as NSA Director. \n\nGeneral Phillips was also a combat vetera
 n of World War II. He served as a combat pilot with the 364th Fighter Grou
 p of the Eighth Air Force\, based in England\, and completed two combat to
 urs of duty in the European Theater of Operations. He was awarded the Dist
 inguished Flying Cross with oak leaf clusters\, Air Medal with seven oak l
 eaf clusters\, and the French Croix de Guerre. \n\nHe served as director o
 f NASA's Apollo Manned Lunar Landing Program from 1964 to 1969. Though he 
 had little experience with intelligence work\, his leadership abilities we
 re considerable. He went on to a fourth star and served as Commander\, Air
  Force Systems Command (COMAFSC) after his term as DIRNSA.
X-WR-RELCALID:309ef5c0f971e22f41780ea9d8887b50
X-WR-TIMEZONE:America/New_York
BEGIN:VTIMEZONE
TZID:America/New_York
BEGIN:STANDARD
TZNAME:EST
DTSTART:20251102T020000
TZOFFSETFROM:-0400
TZOFFSETTO:-0500
RDATE:20261101T020000
RDATE:20271107T020000
END:STANDARD
BEGIN:DAYLIGHT
TZNAME:EDT
DTSTART:20260308T020000
TZOFFSETFROM:-0500
TZOFFSETTO:-0400
RDATE:20270314T020000
END:DAYLIGHT
END:VTIMEZONE
BEGIN:VEVENT
UID:57fc61a2-dfcc-477d-8991-6bb9718e049b
DTSTAMP:20260424T111408Z
DESCRIPTION:From August 1972 to August 1973\, Lt. GEN Samuel Phillips\, USA
 F\, served as NSA Director. \n\nGeneral Phillips was also a combat veteran
  of World War II. He served as a combat pilot with the 364th Fighter Group
  of the Eighth Air Force\, based in England\, and completed two combat tou
 rs of duty in the European Theater of Operations. He was awarded the Disti
 nguished Flying Cross with oak leaf clusters\, Air Medal with seven oak le
 af clusters\, and the French Croix de Guerre. \n\nHe served as director of
  NASA's Apollo Manned Lunar Landing Program from 1964 to 1969. Though he h
 ad little experience with intelligence work\, his leadership abilities wer
 e considerable. He went on to a fourth star and served as Commander\, Air 
 Force Systems Command (COMAFSC) after his term as DIRNSA.
DTSTART;TZID=America/New_York:20260801T000000
DTEND;TZID=America/New_York:20260801T235900
LOCATION:
SUMMARY:1972: Lt. Gen Sam Phillips Becomes DIRNSA....
END:VEVENT
END:VCALENDAR
