BEGIN:VCALENDAR
VERSION:2.0
PRODID:-//archive.cryptologicfoundation.org//NONSGML kigkonsult.se iCalcrea
 tor 2.30.10//
CALSCALE:GREGORIAN
METHOD:PUBLISH
UID:8567ea26-d943-496b-b594-abc363ebd9db
X-WR-CALDESC:5 August 1963: Representatives of the US\, UK\, and USSR signe
 d the Limited Nuclear Test Ban Treaty. \n\nThe Test Ban Treaty of 1963 pro
 hibits nuclear weapons tests 'or any other nuclear explosion' in the atmos
 phere\, in outer space\, and under water. While not banning tests undergro
 und\, the Treaty does prohibit nuclear explosions in this environment if t
 hey cause 'radioactive debris to be present outside the territorial limits
  of the State under whose jurisdiction or control' the explosions were con
 ducted. In accepting limitations on testing\, the nuclear powers accepted 
 as a common goal 'an end to the contamination of man's environment by radi
 oactive substances.'\n\nLearn more via the link below.
X-WR-RELCALID:22aad41fed7434d78b15c2898c38851a
X-WR-TIMEZONE:America/New_York
BEGIN:VTIMEZONE
TZID:America/New_York
BEGIN:STANDARD
TZNAME:EST
DTSTART:20251102T020000
TZOFFSETFROM:-0400
TZOFFSETTO:-0500
RDATE:20261101T020000
RDATE:20271107T020000
END:STANDARD
BEGIN:DAYLIGHT
TZNAME:EDT
DTSTART:20260308T020000
TZOFFSETFROM:-0500
TZOFFSETTO:-0400
RDATE:20270314T020000
END:DAYLIGHT
END:VTIMEZONE
BEGIN:VEVENT
UID:0d738628-c4b7-49f8-af81-3b2a9a0ea89d
DTSTAMP:20260424T112007Z
DESCRIPTION:5 August 1963: Representatives of the US\, UK\, and USSR signed
  the Limited Nuclear Test Ban Treaty. \n\nThe Test Ban Treaty of 1963 proh
 ibits nuclear weapons tests 'or any other nuclear explosion' in the atmosp
 here\, in outer space\, and under water. While not banning tests undergrou
 nd\, the Treaty does prohibit nuclear explosions in this environment if th
 ey cause 'radioactive debris to be present outside the territorial limits 
 of the State under whose jurisdiction or control' the explosions were cond
 ucted. In accepting limitations on testing\, the nuclear powers accepted a
 s a common goal 'an end to the contamination of man's environment by radio
 active substances.'\n\nLearn more via the link below.
DTSTART;TZID=America/New_York:20260805T000000
DTEND;TZID=America/New_York:20260805T235900
LOCATION:
SUMMARY:1963: Limited Nuclear Test Ban Treaty
END:VEVENT
END:VCALENDAR
