BEGIN:VCALENDAR
VERSION:2.0
PRODID:-//archive.cryptologicfoundation.org//NONSGML kigkonsult.se iCalcrea
 tor 2.30.10//
CALSCALE:GREGORIAN
METHOD:PUBLISH
UID:2c4c1a4c-306b-4500-9a3a-1d85ed3d2493
X-WR-CALDESC:5 August 1994: American cryptologic pioneer Dr. Solomon Kullba
 ck died. In the photo - Dr. Kullback is standing - second from left. Willi
 am Friedman is seated\, far right\, and Frank Rowlett and Abraham Sinkov a
 re standing first and second from the right. \n\nThe below excerpt is take
 n from <b>NSA's Cryptologic Hall of Honor entry for Dr. Solomon Kullback\,
  a 1999 Inductee</b> more about Dr. Kullback's experience and accomplishme
 nts in the full entry via the link at the end of the page.\n\nDr. Solomon 
 Kullback was one of the original three 'junior cryptanalysts' hired by Wil
 liam Friedman to work for the U.S. Army's Signals Intelligence Service. Fo
 r the better part of a decade\, Kullback\, together with William Friedman\
 , Frank Rowlett\, and Abraham Sinkov\, constituted the Army's sole effort 
 against the codes and ciphers of potential enemies\, and the nucleus of th
 e Army communications intelligence (COMINT) service thereafter.\n\nThe ori
 ginal members of SIS were a unique quartet\, men who ought to be national 
 heroes. Their love was as much for the process as the result\, the cryptan
 alysis as the intelligence derived from it\, but what they did\, the break
 throughs against the high-level code and cipher systems of our principal e
 nemies\, surely shortened the period of war by many months and resulted in
  the saving of thousands of American and British lives.\n\nYears later\, i
 n an interview with NSA's oral historian\, Solomon Kullback was modest abo
 ut his accomplishments\, but made a telling comment about his activities a
 gainst German cryptography. He still recalled many of the details of these
  systems\, described them in considerable detail\, and commented: 'They we
 re a lot of fun.'
X-WR-RELCALID:d96fe00e0d40ef1985cc4bda5c3acbcb
X-WR-TIMEZONE:America/New_York
BEGIN:VTIMEZONE
TZID:America/New_York
BEGIN:STANDARD
TZNAME:EST
DTSTART:20251102T020000
TZOFFSETFROM:-0400
TZOFFSETTO:-0500
RDATE:20261101T020000
RDATE:20271107T020000
END:STANDARD
BEGIN:DAYLIGHT
TZNAME:EDT
DTSTART:20260308T020000
TZOFFSETFROM:-0500
TZOFFSETTO:-0400
RDATE:20270314T020000
END:DAYLIGHT
END:VTIMEZONE
BEGIN:VEVENT
UID:293f4ae5-61fe-4214-9269-7b2c8e6a056c
DTSTAMP:20260424T111408Z
DESCRIPTION:5 August 1994: American cryptologic pioneer Dr. Solomon Kullbac
 k died. In the photo - Dr. Kullback is standing - second from left. Willia
 m Friedman is seated\, far right\, and Frank Rowlett and Abraham Sinkov ar
 e standing first and second from the right. \n\nThe below excerpt is taken
  from <b>NSA's Cryptologic Hall of Honor entry for Dr. Solomon Kullback\, 
 a 1999 Inductee</b> more about Dr. Kullback's experience and accomplishmen
 ts in the full entry via the link at the end of the page.\n\nDr. Solomon K
 ullback was one of the original three 'junior cryptanalysts' hired by Will
 iam Friedman to work for the U.S. Army's Signals Intelligence Service. For
  the better part of a decade\, Kullback\, together with William Friedman\,
  Frank Rowlett\, and Abraham Sinkov\, constituted the Army's sole effort a
 gainst the codes and ciphers of potential enemies\, and the nucleus of the
  Army communications intelligence (COMINT) service thereafter.\n\nThe orig
 inal members of SIS were a unique quartet\, men who ought to be national h
 eroes. Their love was as much for the process as the result\, the cryptana
 lysis as the intelligence derived from it\, but what they did\, the breakt
 hroughs against the high-level code and cipher systems of our principal en
 emies\, surely shortened the period of war by many months and resulted in 
 the saving of thousands of American and British lives.\n\nYears later\, in
  an interview with NSA's oral historian\, Solomon Kullback was modest abou
 t his accomplishments\, but made a telling comment about his activities ag
 ainst German cryptography. He still recalled many of the details of these 
 systems\, described them in considerable detail\, and commented: 'They wer
 e a lot of fun.'
DTSTART;TZID=America/New_York:20260805T000000
DTEND;TZID=America/New_York:20260805T235900
LOCATION:
SUMMARY:1994: Solomon Kullback Died
END:VEVENT
END:VCALENDAR
