BEGIN:VCALENDAR
VERSION:2.0
PRODID:-//archive.cryptologicfoundation.org//NONSGML kigkonsult.se iCalcrea
 tor 2.30.10//
CALSCALE:GREGORIAN
METHOD:PUBLISH
UID:81bcffa8-0b3a-46f9-96f8-e31da30fd464
X-WR-CALDESC:6 August 1945: The U.S. dropped the atomic bomb on Hiroshima. 
 A uranium gun-type atomic bomb (Little Boy) was dropped on Hiroshima on Au
 gust 6th\, followed by a plutonium implosion-type bomb (Fat Man) on the ci
 ty of Nagasaki on August 9th. Little Boy exploded 2\,000 feet above Hirosh
 ima in a blast equal to 12-15\,000 tons of TNT\, destroying five square mi
 les of the city. Within the first two to four months of the bombings\, the
  acute effects of the atomic bombings killed 90\,000–166\,000 people in Hi
 roshima and 39\,000–80\,000 in Nagasaki\; roughly half of the deaths in ea
 ch city occurred on the first day. During the following months\, large num
 bers died from the effect of burns\, radiation sickness\, and other injuri
 es\, compounded by illness and malnutrition. In both cities\, most of the 
 dead were civilians\, although Hiroshima had a sizable military garrison.
 \n\nOn August 15\, just days after the bombing of Nagasaki and the Soviet 
 Union's declaration of war\, Japan announced its surrender to the Allies. 
 On September 2\, it signed the instrument of surrender\, effectively endin
 g World War II.
X-WR-RELCALID:74abac7c304781ec90f4766c21f9a8bc
X-WR-TIMEZONE:America/New_York
BEGIN:VTIMEZONE
TZID:America/New_York
BEGIN:STANDARD
TZNAME:EST
DTSTART:20251102T020000
TZOFFSETFROM:-0400
TZOFFSETTO:-0500
RDATE:20261101T020000
RDATE:20271107T020000
END:STANDARD
BEGIN:DAYLIGHT
TZNAME:EDT
DTSTART:20260308T020000
TZOFFSETFROM:-0500
TZOFFSETTO:-0400
RDATE:20270314T020000
END:DAYLIGHT
END:VTIMEZONE
BEGIN:VEVENT
UID:57557ad3-7cce-48ee-af47-dd9e825865b4
DTSTAMP:20260424T111550Z
DESCRIPTION:6 August 1945: The U.S. dropped the atomic bomb on Hiroshima. A
  uranium gun-type atomic bomb (Little Boy) was dropped on Hiroshima on Aug
 ust 6th\, followed by a plutonium implosion-type bomb (Fat Man) on the cit
 y of Nagasaki on August 9th. Little Boy exploded 2\,000 feet above Hiroshi
 ma in a blast equal to 12-15\,000 tons of TNT\, destroying five square mil
 es of the city. Within the first two to four months of the bombings\, the 
 acute effects of the atomic bombings killed 90\,000–166\,000 people in Hir
 oshima and 39\,000–80\,000 in Nagasaki\; roughly half of the deaths in eac
 h city occurred on the first day. During the following months\, large numb
 ers died from the effect of burns\, radiation sickness\, and other injurie
 s\, compounded by illness and malnutrition. In both cities\, most of the d
 ead were civilians\, although Hiroshima had a sizable military garrison.\n
 \nOn August 15\, just days after the bombing of Nagasaki and the Soviet Un
 ion's declaration of war\, Japan announced its surrender to the Allies. On
  September 2\, it signed the instrument of surrender\, effectively ending 
 World War II.
DTSTART;TZID=America/New_York:20260806T000000
DTEND;TZID=America/New_York:20260806T235900
LOCATION:
SUMMARY:1945: US Dropped Atomic Bomb Over Hiroshima
END:VEVENT
END:VCALENDAR
