BEGIN:VCALENDAR
VERSION:2.0
PRODID:-//archive.cryptologicfoundation.org//NONSGML kigkonsult.se iCalcrea
 tor 2.30.10//
CALSCALE:GREGORIAN
METHOD:PUBLISH
UID:6916d44c-6728-43c1-a9f2-1247a48a896f
X-WR-CALDESC:9 August 1945: The U.S. dropped an atomic bomb on Nagasaki\, r
 esulting in Japan's unconditional surrender. \n\nExcerpt from History.com:
   A specially adapted B-29 bomber\, called 'Bock's Car\,' after its usual 
 commander\, Frederick Bock\, took off from Tinian Island under the command
  of Maj. Charles W. Sweeney. Nagasaki was a shipbuilding center\, the very
  industry intended for destruction. The bomb was dropped at 11:02 a.m.\, 1
 \,650 feet above the city. The explosion unleashed the equivalent force of
  22\,000 tons of TNT. The hills that surrounded the city did a better job 
 of containing the destructive force\, but the number killed is estimated a
 t anywhere between 60\,000 and 80\,000 (exact figures are impossible\, the
  blast having obliterated bodies and disintegrated records).
X-WR-RELCALID:bb265f1cbda16a53c3e3ecdd3a691440
X-WR-TIMEZONE:America/New_York
BEGIN:VTIMEZONE
TZID:America/New_York
BEGIN:STANDARD
TZNAME:EST
DTSTART:20251102T020000
TZOFFSETFROM:-0400
TZOFFSETTO:-0500
RDATE:20261101T020000
RDATE:20271107T020000
END:STANDARD
BEGIN:DAYLIGHT
TZNAME:EDT
DTSTART:20260308T020000
TZOFFSETFROM:-0500
TZOFFSETTO:-0400
RDATE:20270314T020000
END:DAYLIGHT
END:VTIMEZONE
BEGIN:VEVENT
UID:9295b5a6-4060-40e8-b828-72d2afbde5c3
DTSTAMP:20260424T111500Z
DESCRIPTION:9 August 1945: The U.S. dropped an atomic bomb on Nagasaki\, re
 sulting in Japan's unconditional surrender. \n\nExcerpt from History.com: 
  A specially adapted B-29 bomber\, called 'Bock's Car\,' after its usual c
 ommander\, Frederick Bock\, took off from Tinian Island under the command 
 of Maj. Charles W. Sweeney. Nagasaki was a shipbuilding center\, the very 
 industry intended for destruction. The bomb was dropped at 11:02 a.m.\, 1\
 ,650 feet above the city. The explosion unleashed the equivalent force of 
 22\,000 tons of TNT. The hills that surrounded the city did a better job o
 f containing the destructive force\, but the number killed is estimated at
  anywhere between 60\,000 and 80\,000 (exact figures are impossible\, the 
 blast having obliterated bodies and disintegrated records).
DTSTART;TZID=America/New_York:20260809T000000
DTEND;TZID=America/New_York:20260809T235900
LOCATION:
SUMMARY:1945: Nagasaki
END:VEVENT
END:VCALENDAR
