BEGIN:VCALENDAR
VERSION:2.0
PRODID:-//archive.cryptologicfoundation.org//NONSGML kigkonsult.se iCalcrea
 tor 2.30.10//
CALSCALE:GREGORIAN
METHOD:PUBLISH
UID:12faee28-9039-4a61-aad5-ea642e9cfaf2
X-WR-CALDESC:11 August 1972: The last U.S. ground combat unit departed Viet
 nam. The last American combat unit was a task force from the 3d Bn\, 21st 
 Inf Regt and battery B\, 3d Bn\, 82d Field Artillery Regt which had been s
 tationed in Danang.
X-WR-RELCALID:586b68e9b1dcc5044adc377eeb20c7d2
X-WR-TIMEZONE:America/New_York
BEGIN:VTIMEZONE
TZID:America/New_York
BEGIN:STANDARD
TZNAME:EST
DTSTART:20251102T020000
TZOFFSETFROM:-0400
TZOFFSETTO:-0500
RDATE:20261101T020000
RDATE:20271107T020000
END:STANDARD
BEGIN:DAYLIGHT
TZNAME:EDT
DTSTART:20260308T020000
TZOFFSETFROM:-0500
TZOFFSETTO:-0400
RDATE:20270314T020000
END:DAYLIGHT
END:VTIMEZONE
BEGIN:VEVENT
UID:65e5deb7-4a36-4a09-8492-65d5c9d34ede
DTSTAMP:20260424T111938Z
DESCRIPTION:11 August 1972: The last U.S. ground combat unit departed Vietn
 am. The last American combat unit was a task force from the 3d Bn\, 21st I
 nf Regt and battery B\, 3d Bn\, 82d Field Artillery Regt which had been st
 ationed in Danang.
DTSTART;TZID=America/New_York:20260811T000000
DTEND;TZID=America/New_York:20260811T235900
LOCATION:
SUMMARY:1972: Last U.S. Ground Combat Unit Leaves Vietnam
END:VEVENT
END:VCALENDAR
