BEGIN:VCALENDAR
VERSION:2.0
PRODID:-//archive.cryptologicfoundation.org//NONSGML kigkonsult.se iCalcrea
 tor 2.30.10//
CALSCALE:GREGORIAN
METHOD:PUBLISH
UID:290f7a57-2d7a-4650-b8d1-ba27f06e9acb
X-WR-CALDESC:12 August 1918: The 'Allegheny' field code was issued. Learn a
 bout American Army Field Codes in a document by William Friedman via the l
 ink at the bottom of the page.\n\nTrench codes were codes used for secrecy
  by field armies in World War I. A reasonably-designed code is generally m
 ore difficult to crack than a classical cipher\, but of course suffers fro
 m the difficulty of preparing\, distributing\, and protecting codebooks. T
 he Americans adopted a series of codes named after rivers\, beginning with
  'Potomac'. They learned to print the codebooks on paper that burned easil
 y and degraded quickly after a few weeks\, when the codes would presumably
  be obsolete\, while using a font that was easy to read under trench condi
 tions.
X-WR-RELCALID:35af2a28c22d075aed57e0c8cae196bc
X-WR-TIMEZONE:America/New_York
BEGIN:VTIMEZONE
TZID:America/New_York
BEGIN:STANDARD
TZNAME:EST
DTSTART:20251102T020000
TZOFFSETFROM:-0400
TZOFFSETTO:-0500
RDATE:20261101T020000
RDATE:20271107T020000
END:STANDARD
BEGIN:DAYLIGHT
TZNAME:EDT
DTSTART:20260308T020000
TZOFFSETFROM:-0500
TZOFFSETTO:-0400
RDATE:20270314T020000
END:DAYLIGHT
END:VTIMEZONE
BEGIN:VEVENT
UID:6c9c0079-8d54-4b69-9935-16b1f70ad01f
DTSTAMP:20260424T111416Z
DESCRIPTION:12 August 1918: The 'Allegheny' field code was issued. Learn ab
 out American Army Field Codes in a document by William Friedman via the li
 nk at the bottom of the page.\n\nTrench codes were codes used for secrecy 
 by field armies in World War I. A reasonably-designed code is generally mo
 re difficult to crack than a classical cipher\, but of course suffers from
  the difficulty of preparing\, distributing\, and protecting codebooks. Th
 e Americans adopted a series of codes named after rivers\, beginning with 
 'Potomac'. They learned to print the codebooks on paper that burned easily
  and degraded quickly after a few weeks\, when the codes would presumably 
 be obsolete\, while using a font that was easy to read under trench condit
 ions.
DTSTART;TZID=America/New_York:20260812T000000
DTEND;TZID=America/New_York:20260812T235900
LOCATION:
SUMMARY:1918: 'Allegheny' Field Code was issued.
END:VEVENT
END:VCALENDAR
