BEGIN:VCALENDAR
VERSION:2.0
PRODID:-//archive.cryptologicfoundation.org//NONSGML kigkonsult.se iCalcrea
 tor 2.30.10//
CALSCALE:GREGORIAN
METHOD:PUBLISH
UID:61534bfb-d94d-4682-8703-b85b9716b9b1
X-WR-CALDESC:15 August 1945: Japan announced its surrender during World War
  II. Emperor Hirohito announced the news of his country's unconditional su
 rrender in World War II over a radio broadcast to the Japanese people.
X-WR-RELCALID:b59f8a7dbce3b26f3757abd02687ec19
X-WR-TIMEZONE:America/New_York
BEGIN:VTIMEZONE
TZID:America/New_York
BEGIN:STANDARD
TZNAME:EST
DTSTART:20251102T020000
TZOFFSETFROM:-0400
TZOFFSETTO:-0500
RDATE:20261101T020000
RDATE:20271107T020000
END:STANDARD
BEGIN:DAYLIGHT
TZNAME:EDT
DTSTART:20260308T020000
TZOFFSETFROM:-0500
TZOFFSETTO:-0400
RDATE:20270314T020000
END:DAYLIGHT
END:VTIMEZONE
BEGIN:VEVENT
UID:9928f790-1c50-4a76-9a17-b9913539c6e6
DTSTAMP:20260424T111409Z
DESCRIPTION:15 August 1945: Japan announced its surrender during World War 
 II. Emperor Hirohito announced the news of his country's unconditional sur
 render in World War II over a radio broadcast to the Japanese people.
DTSTART;TZID=America/New_York:20260815T000000
DTEND;TZID=America/New_York:20260815T235900
LOCATION:
SUMMARY:1945: Japan Announced Surrender
END:VEVENT
END:VCALENDAR
