BEGIN:VCALENDAR
VERSION:2.0
PRODID:-//archive.cryptologicfoundation.org//NONSGML kigkonsult.se iCalcrea
 tor 2.30.10//
CALSCALE:GREGORIAN
METHOD:PUBLISH
UID:747bcf97-04af-4369-a221-15c28f2b9f82
X-WR-CALDESC:21 August 1846: Birthday of Étienne Bazeries\, developer of th
 e 'cylindrical cipher device.' His 'Bazeries Cylinder' was an improved ver
 sion of the Jefferson Cipher. It was later refined into the U.S. Army M-94
  cipher device. Bazeries was referred to by historian David Kahn as 'the g
 reat pragmatist of cryptology. His theoretical contributions are negligibl
 e\, but he was one of the greatest natural cryptanalysts the science has s
 een.' (Kahn\, 'The Codebreakers\, 1996)  \n\nTake a look at various cipher
 s on our Information Assurance Exhibits page - link below.
X-WR-RELCALID:6445e66306d5b0a438be6e11023d5ed7
X-WR-TIMEZONE:America/New_York
BEGIN:VTIMEZONE
TZID:America/New_York
BEGIN:STANDARD
TZNAME:EST
DTSTART:20251102T020000
TZOFFSETFROM:-0400
TZOFFSETTO:-0500
RDATE:20261101T020000
RDATE:20271107T020000
END:STANDARD
BEGIN:DAYLIGHT
TZNAME:EDT
DTSTART:20260308T020000
TZOFFSETFROM:-0500
TZOFFSETTO:-0400
RDATE:20270314T020000
END:DAYLIGHT
END:VTIMEZONE
BEGIN:VEVENT
UID:41c08f5b-e3fd-4155-b005-9ebf2f522fbb
DTSTAMP:20260424T111543Z
DESCRIPTION:21 August 1846: Birthday of Étienne Bazeries\, developer of the
  'cylindrical cipher device.' His 'Bazeries Cylinder' was an improved vers
 ion of the Jefferson Cipher. It was later refined into the U.S. Army M-94 
 cipher device. Bazeries was referred to by historian David Kahn as 'the gr
 eat pragmatist of cryptology. His theoretical contributions are negligible
 \, but he was one of the greatest natural cryptanalysts the science has se
 en.' (Kahn\, 'The Codebreakers\, 1996)  \n\nTake a look at various ciphers
  on our Information Assurance Exhibits page - link below.
DTSTART;TZID=America/New_York:20260821T000000
DTEND;TZID=America/New_York:20260821T235900
LOCATION:
SUMMARY:1846: Étienne Bazeries Birth Date
END:VEVENT
END:VCALENDAR
