BEGIN:VCALENDAR
VERSION:2.0
PRODID:-//archive.cryptologicfoundation.org//NONSGML kigkonsult.se iCalcrea
 tor 2.30.10//
CALSCALE:GREGORIAN
METHOD:PUBLISH
UID:4341bdf0-e2e3-4173-96b3-f9738f60f6f3
X-WR-CALDESC:22 August 1956: Chinese fighters shot down U.S. Navy reconnais
 sance plane over Shengsi Islands\, killing all 16 crew members. \n\nPRC fi
 ghters regularly tailed Naval reconnaissance aircraft and\, on occasion\, 
 had opened fire\, but they did not shoot down an SESP platform\, until 22 
 August 1956\, when a P4M-1Q Mercator was downed in an unprovoked attack 32
  miles off the coast of China and 180 miles north of Taiwan. The aircraft 
 radioed that it had encountered hostile fighters and was not heard from ag
 ain. All 16 crewman were missing. Despite an intense search and rescue mis
 sion\, the body of only one of the 16 crewman was recovered and the remain
 der were presumed dead. The PRC later returned the bodies of three of the 
 crewman. It was the costliest Naval reconnaissance loss to date.\n\nLearn 
 more via the NSA publication: ' A Dangerous Business: The US Navy and Nati
 onal Reconnaissance During the Cold War\,' via the link below.\n\nYou can 
 also learn more about the Mercator aircraft via the 2018 AVgeekery.com art
 icle by Bill Walton titled\, 'The Mercator: A Cold War Spy Plane Many Neve
 r Even Knew Existed' - included as a link below.
X-WR-RELCALID:bb634bd2e4221e19377268bbbe38f7b4
X-WR-TIMEZONE:America/New_York
BEGIN:VTIMEZONE
TZID:America/New_York
BEGIN:STANDARD
TZNAME:EST
DTSTART:20251102T020000
TZOFFSETFROM:-0400
TZOFFSETTO:-0500
RDATE:20261101T020000
RDATE:20271107T020000
END:STANDARD
BEGIN:DAYLIGHT
TZNAME:EDT
DTSTART:20260308T020000
TZOFFSETFROM:-0500
TZOFFSETTO:-0400
RDATE:20270314T020000
END:DAYLIGHT
END:VTIMEZONE
BEGIN:VEVENT
UID:8f1f6536-b34d-4cc0-b944-37adf847e7d6
DTSTAMP:20260424T111708Z
DESCRIPTION:22 August 1956: Chinese fighters shot down U.S. Navy reconnaiss
 ance plane over Shengsi Islands\, killing all 16 crew members. \n\nPRC fig
 hters regularly tailed Naval reconnaissance aircraft and\, on occasion\, h
 ad opened fire\, but they did not shoot down an SESP platform\, until 22 A
 ugust 1956\, when a P4M-1Q Mercator was downed in an unprovoked attack 32 
 miles off the coast of China and 180 miles north of Taiwan. The aircraft r
 adioed that it had encountered hostile fighters and was not heard from aga
 in. All 16 crewman were missing. Despite an intense search and rescue miss
 ion\, the body of only one of the 16 crewman was recovered and the remaind
 er were presumed dead. The PRC later returned the bodies of three of the c
 rewman. It was the costliest Naval reconnaissance loss to date.\n\nLearn m
 ore via the NSA publication: ' A Dangerous Business: The US Navy and Natio
 nal Reconnaissance During the Cold War\,' via the link below.\n\nYou can a
 lso learn more about the Mercator aircraft via the 2018 AVgeekery.com arti
 cle by Bill Walton titled\, 'The Mercator: A Cold War Spy Plane Many Never
  Even Knew Existed' - included as a link below.
DTSTART;TZID=America/New_York:20260822T000000
DTEND;TZID=America/New_York:20260822T235900
LOCATION:
SUMMARY:1956: U.S. Navy Recon Plane Shot Down
END:VEVENT
END:VCALENDAR
