BEGIN:VCALENDAR
VERSION:2.0
PRODID:-//archive.cryptologicfoundation.org//NONSGML kigkonsult.se iCalcrea
 tor 2.30.10//
CALSCALE:GREGORIAN
METHOD:PUBLISH
UID:9e464209-1916-44d5-9160-e505b7b4dfe9
X-WR-CALDESC:29 August 1949:  The Soviets detonate their first atomic bomb.
X-WR-RELCALID:a94bea39dc1b691102f14506c625c117
X-WR-TIMEZONE:America/New_York
BEGIN:VTIMEZONE
TZID:America/New_York
BEGIN:STANDARD
TZNAME:EST
DTSTART:20251102T020000
TZOFFSETFROM:-0400
TZOFFSETTO:-0500
RDATE:20261101T020000
RDATE:20271107T020000
END:STANDARD
BEGIN:DAYLIGHT
TZNAME:EDT
DTSTART:20260308T020000
TZOFFSETFROM:-0500
TZOFFSETTO:-0400
RDATE:20270314T020000
END:DAYLIGHT
END:VTIMEZONE
BEGIN:VEVENT
UID:d245fdb4-aca6-48f2-91e4-a6ead4be01ba
DTSTAMP:20260424T111543Z
DESCRIPTION:29 August 1949:  The Soviets detonate their first atomic bomb.
DTSTART;TZID=America/New_York:20260829T000000
DTEND;TZID=America/New_York:20260829T235900
LOCATION:
SUMMARY:1949: Soviets Detonate Atomic Bomb
END:VEVENT
END:VCALENDAR
