BEGIN:VCALENDAR
VERSION:2.0
PRODID:-//archive.cryptologicfoundation.org//NONSGML kigkonsult.se iCalcrea
 tor 2.30.10//
CALSCALE:GREGORIAN
METHOD:PUBLISH
UID:f8173ec8-02f2-4aa0-acdf-c6ad1a7df57f
X-WR-CALDESC:1983: Korean Air Lines Flight 007 was shot down by Soviet figh
 ters. \n\nAs a result of the incident\, the United States altered tracking
  procedures for aircraft departing Alaska. The interface of the autopilot 
 used on airliners was redesigned to make it more ergonomic. In addition\, 
 the event was one of the most important single events that prompted the Re
 agan administration to allow worldwide access to the United States militar
 y's GNSS system\, which was classified at the time. Today this system is w
 idely known as GPS.  (source: wikipedia)
X-WR-RELCALID:305e961c513f93b06cbafb5e37a32ae2
X-WR-TIMEZONE:America/New_York
BEGIN:VTIMEZONE
TZID:America/New_York
BEGIN:STANDARD
TZNAME:EST
DTSTART:20251102T020000
TZOFFSETFROM:-0400
TZOFFSETTO:-0500
RDATE:20261101T020000
RDATE:20271107T020000
END:STANDARD
BEGIN:DAYLIGHT
TZNAME:EDT
DTSTART:20260308T020000
TZOFFSETFROM:-0500
TZOFFSETTO:-0400
RDATE:20270314T020000
END:DAYLIGHT
END:VTIMEZONE
BEGIN:VEVENT
UID:968ecba8-142f-466c-a5e0-f026a7c8546e
DTSTAMP:20260424T125209Z
DESCRIPTION:1983: Korean Air Lines Flight 007 was shot down by Soviet fight
 ers. \n\nAs a result of the incident\, the United States altered tracking 
 procedures for aircraft departing Alaska. The interface of the autopilot u
 sed on airliners was redesigned to make it more ergonomic. In addition\, t
 he event was one of the most important single events that prompted the Rea
 gan administration to allow worldwide access to the United States military
 's GNSS system\, which was classified at the time. Today this system is wi
 dely known as GPS.  (source: wikipedia)
DTSTART;TZID=America/New_York:20260901T000000
DTEND;TZID=America/New_York:20260901T235900
LOCATION:
SUMMARY:1983: KAL 007 Shot Down
END:VEVENT
END:VCALENDAR
