BEGIN:VCALENDAR
VERSION:2.0
PRODID:-//archive.cryptologicfoundation.org//NONSGML kigkonsult.se iCalcrea
 tor 2.30.10//
CALSCALE:GREGORIAN
METHOD:PUBLISH
UID:2ee2dcad-1d69-4be4-87ed-850b21fce196
X-WR-CALDESC:1945: Belligerents sign Japanese surrender aboard USS Missouri
 . \n\nPhoto info:  Japanese Foreign Minister Mamoru Shigemitsu signs the I
 nstrument of Surrender on behalf of the Japanese Government\, on board USS
  Missouri (BB-63)\, 2 September 1945. Lieutentant General Richard K. Suthe
 rland\, U.S. Army\, watches from the opposite side of the table. Foreign M
 inistry representative Toshikazu Kase is assisting Mr. Shigemitsu.\n\nPhot
 ograph from the Army Signal Corps Collection in the U.S. National Archives
 .
X-WR-RELCALID:63adf7c0c5f04c80c728ae1879decd7b
X-WR-TIMEZONE:America/New_York
BEGIN:VTIMEZONE
TZID:America/New_York
BEGIN:STANDARD
TZNAME:EST
DTSTART:20251102T020000
TZOFFSETFROM:-0400
TZOFFSETTO:-0500
RDATE:20261101T020000
RDATE:20271107T020000
END:STANDARD
BEGIN:DAYLIGHT
TZNAME:EDT
DTSTART:20260308T020000
TZOFFSETFROM:-0500
TZOFFSETTO:-0400
RDATE:20270314T020000
END:DAYLIGHT
END:VTIMEZONE
BEGIN:VEVENT
UID:9a5cd0bc-5a38-400d-ba81-d9f86170d46f
DTSTAMP:20260424T125040Z
DESCRIPTION:1945: Belligerents sign Japanese surrender aboard USS Missouri.
  \n\nPhoto info:  Japanese Foreign Minister Mamoru Shigemitsu signs the In
 strument of Surrender on behalf of the Japanese Government\, on board USS 
 Missouri (BB-63)\, 2 September 1945. Lieutentant General Richard K. Suther
 land\, U.S. Army\, watches from the opposite side of the table. Foreign Mi
 nistry representative Toshikazu Kase is assisting Mr. Shigemitsu.\n\nPhoto
 graph from the Army Signal Corps Collection in the U.S. National Archives.
DTSTART;TZID=America/New_York:20260902T000000
DTEND;TZID=America/New_York:20260902T235900
LOCATION:
SUMMARY:1945: Japanese Surrender Event
END:VEVENT
END:VCALENDAR
