BEGIN:VCALENDAR
VERSION:2.0
PRODID:-//archive.cryptologicfoundation.org//NONSGML kigkonsult.se iCalcrea
 tor 2.30.10//
CALSCALE:GREGORIAN
METHOD:PUBLISH
UID:6327a527-59b3-40f9-b8fb-188aaf8fbe86
X-WR-CALDESC:2 September 1997: National Vigilance Park dedication. \n\n<b>P
 LEASE NOTE</b> - National Vigilance Park was dismantled in early 2017 due 
 to NSA construction.\n\nThough not officially part of the National Cryptol
 ogic Museum\, <b>National Vigilance Park</b> was previously just a short w
 alk away and well worth the visit. Open during daylight hours\, it frequen
 tly hosted military ceremonies as well as visits from the general public. 
 \n\nThe secrecy of reconnaissance programs prevented recognition of slain 
 military personnel at the time of incidents. Their fellow soldiers\, sailo
 rs\, airmen\, and marines in similar programs mourned their loss\, but the
  fallen could not be accorded public honors. The end of the Cold War has a
 llowed for the lifting of security restrictions and long overdo recognitio
 n of the achievements and sacrifices of these intrepid military personnel.
  To this end\, the United States established National Vigilance Park at Fo
 rt Meade\, Maryland. \n\nSee more photos and learn more about National Vig
 ilance Park on our website via the link below.
X-WR-RELCALID:d1dd952c58edb6ad68e7b4adb38b16b1
X-WR-TIMEZONE:America/New_York
BEGIN:VTIMEZONE
TZID:America/New_York
BEGIN:STANDARD
TZNAME:EST
DTSTART:20251102T020000
TZOFFSETFROM:-0400
TZOFFSETTO:-0500
RDATE:20261101T020000
RDATE:20271107T020000
END:STANDARD
BEGIN:DAYLIGHT
TZNAME:EDT
DTSTART:20260308T020000
TZOFFSETFROM:-0500
TZOFFSETTO:-0400
RDATE:20270314T020000
END:DAYLIGHT
END:VTIMEZONE
BEGIN:VEVENT
UID:e12c3a58-cc8e-4840-a2ff-9aaa6bf75eef
DTSTAMP:20260424T125340Z
DESCRIPTION:2 September 1997: National Vigilance Park dedication. \n\n<b>PL
 EASE NOTE</b> - National Vigilance Park was dismantled in early 2017 due t
 o NSA construction.\n\nThough not officially part of the National Cryptolo
 gic Museum\, <b>National Vigilance Park</b> was previously just a short wa
 lk away and well worth the visit. Open during daylight hours\, it frequent
 ly hosted military ceremonies as well as visits from the general public. 
 \n\nThe secrecy of reconnaissance programs prevented recognition of slain 
 military personnel at the time of incidents. Their fellow soldiers\, sailo
 rs\, airmen\, and marines in similar programs mourned their loss\, but the
  fallen could not be accorded public honors. The end of the Cold War has a
 llowed for the lifting of security restrictions and long overdo recognitio
 n of the achievements and sacrifices of these intrepid military personnel.
  To this end\, the United States established National Vigilance Park at Fo
 rt Meade\, Maryland. \n\nSee more photos and learn more about National Vig
 ilance Park on our website via the link below.
DTSTART;TZID=America/New_York:20260902T000000
DTEND;TZID=America/New_York:20260902T235900
LOCATION:
SUMMARY:1997: National Vigilance Park Dedicated
END:VEVENT
END:VCALENDAR
