BEGIN:VCALENDAR
VERSION:2.0
PRODID:-//archive.cryptologicfoundation.org//NONSGML kigkonsult.se iCalcrea
 tor 2.30.10//
CALSCALE:GREGORIAN
METHOD:PUBLISH
UID:23e8f261-b9c2-494f-89fd-e30cae8ee0a2
X-WR-CALDESC:4 September 1968: First broadcast of the 'Star Trek' episode '
 The Enterprise Incident\,' loosely based on the capture of the USS Pueblo 
 (AGER-2). \n\nD. C. Fontana based this story very loosely upon the Pueblo 
 Incident\, in which a United States Navy ship and its crew were captured a
 nd held on charges of espionage for a period of almost one year after they
  allegedly strayed into North Korean waters. (wikipedia)
X-WR-RELCALID:9ec54ca204b84953e5e00e20be9c8adb
X-WR-TIMEZONE:America/New_York
BEGIN:VTIMEZONE
TZID:America/New_York
BEGIN:STANDARD
TZNAME:EST
DTSTART:20251102T020000
TZOFFSETFROM:-0400
TZOFFSETTO:-0500
RDATE:20261101T020000
RDATE:20271107T020000
END:STANDARD
BEGIN:DAYLIGHT
TZNAME:EDT
DTSTART:20260308T020000
TZOFFSETFROM:-0500
TZOFFSETTO:-0400
RDATE:20270314T020000
END:DAYLIGHT
END:VTIMEZONE
BEGIN:VEVENT
UID:22688491-805d-4016-9cd9-4f525322a6d2
DTSTAMP:20260424T125647Z
DESCRIPTION:4 September 1968: First broadcast of the 'Star Trek' episode 'T
 he Enterprise Incident\,' loosely based on the capture of the USS Pueblo (
 AGER-2). \n\nD. C. Fontana based this story very loosely upon the Pueblo I
 ncident\, in which a United States Navy ship and its crew were captured an
 d held on charges of espionage for a period of almost one year after they 
 allegedly strayed into North Korean waters. (wikipedia)
DTSTART;TZID=America/New_York:20260904T000000
DTEND;TZID=America/New_York:20260904T235900
LOCATION:
SUMMARY:1968: 'Star Trek: The Enterprise Incident'
END:VEVENT
END:VCALENDAR
