BEGIN:VCALENDAR
VERSION:2.0
PRODID:-//archive.cryptologicfoundation.org//NONSGML kigkonsult.se iCalcrea
 tor 2.30.10//
CALSCALE:GREGORIAN
METHOD:PUBLISH
UID:aa8cee3d-2a47-4d87-b8fb-2fb8839c3403
X-WR-CALDESC:6 September 1941: Winston Churchill visited Bletchley Park.  P
 hoto by C and A Photography - Winston Churchill visit to Bletchley Park.\n
 \nChurchill had learned of worsening morale problems at Bletchley Park and
  his visit in September 1941 helped to boost the morale of 'Station X' per
 sonnel. During his visit\, he reportedly asked about recreational faciliti
 es for staff and was told there were none. He is said to have ordered that
  a site planned to extend parking be instead made into tennis courts. And 
 so it was! These tennis courts remain on site today and are believed to be
  the only tennis courts in the UK built by Prime Ministerial decree.
X-WR-RELCALID:6ba41f1b8a40f5674226040abaa5d1a9
X-WR-TIMEZONE:America/New_York
BEGIN:VTIMEZONE
TZID:America/New_York
BEGIN:STANDARD
TZNAME:EST
DTSTART:20251102T020000
TZOFFSETFROM:-0400
TZOFFSETTO:-0500
RDATE:20261101T020000
RDATE:20271107T020000
END:STANDARD
BEGIN:DAYLIGHT
TZNAME:EDT
DTSTART:20260308T020000
TZOFFSETFROM:-0500
TZOFFSETTO:-0400
RDATE:20270314T020000
END:DAYLIGHT
END:VTIMEZONE
BEGIN:VEVENT
UID:af61dbb0-30fd-43eb-8728-f7db368553dd
DTSTAMP:20260424T125545Z
DESCRIPTION:6 September 1941: Winston Churchill visited Bletchley Park.  Ph
 oto by C and A Photography - Winston Churchill visit to Bletchley Park.\n
 \nChurchill had learned of worsening morale problems at Bletchley Park and
  his visit in September 1941 helped to boost the morale of 'Station X' per
 sonnel. During his visit\, he reportedly asked about recreational faciliti
 es for staff and was told there were none. He is said to have ordered that
  a site planned to extend parking be instead made into tennis courts. And 
 so it was! These tennis courts remain on site today and are believed to be
  the only tennis courts in the UK built by Prime Ministerial decree.
DTSTART;TZID=America/New_York:20260906T000000
DTEND;TZID=America/New_York:20260906T235900
LOCATION:
SUMMARY:1941: Winston Churchill Visited Bletchley Park
END:VEVENT
END:VCALENDAR
