BEGIN:VCALENDAR
VERSION:2.0
PRODID:-//archive.cryptologicfoundation.org//NONSGML kigkonsult.se iCalcrea
 tor 2.30.10//
CALSCALE:GREGORIAN
METHOD:PUBLISH
UID:0ecebb4a-ed36-41f5-a544-75f150143d66
X-WR-CALDESC:7 September 1983: Boris Hagelin\, inventor of Converter M-209 
 cryptodevice\, died on this date in 1983.\n\nBoris Caesar Wilhelm Hagelin 
 graduated from the Royal Institute of Technology in Stockholm with a degre
 e in mechanical engineering in 1914. Hagelin\, as part of the company Akti
 ebolaget Cryptoteknik\, designed several cryptographic machines beginning 
 in the 1920s. At the outbreak of World War II\, he escaped to the United S
 tates and won a contract with the U.S. Army for a medium-level cryptograph
 ic device: the M-209. More than 140\,000 of the compact machines were buil
 t for the Army and Navy earning Hagelin millions of dollars in royalties. 
 He was the first man to become a millionaire from cryptology.\n\nExcerpt f
 rom ciphermachines.com: 'In 1940\, Hagelin took his C-38 to the US and sol
 d his design to the US government. This machine was manufactured by the L.
 C. Smith-Corona Typewriter Company under license from Hagelin's firm. 140\
 ,000 M-209s were made during WW2\, making Hagelin the first and possibly o
 nly millionaire from selling cipher technology.' \n\n
X-WR-RELCALID:d00c764edfebef9a0b7436d3fcd87c2e
X-WR-TIMEZONE:America/New_York
BEGIN:VTIMEZONE
TZID:America/New_York
BEGIN:STANDARD
TZNAME:EST
DTSTART:20251102T020000
TZOFFSETFROM:-0400
TZOFFSETTO:-0500
RDATE:20261101T020000
RDATE:20271107T020000
END:STANDARD
BEGIN:DAYLIGHT
TZNAME:EDT
DTSTART:20260308T020000
TZOFFSETFROM:-0500
TZOFFSETTO:-0400
RDATE:20270314T020000
END:DAYLIGHT
END:VTIMEZONE
BEGIN:VEVENT
UID:7aa76d6d-978a-4678-9f1f-0ea0aca47d0e
DTSTAMP:20260424T125512Z
DESCRIPTION:7 September 1983: Boris Hagelin\, inventor of Converter M-209 c
 ryptodevice\, died on this date in 1983.\n\nBoris Caesar Wilhelm Hagelin g
 raduated from the Royal Institute of Technology in Stockholm with a degree
  in mechanical engineering in 1914. Hagelin\, as part of the company Aktie
 bolaget Cryptoteknik\, designed several cryptographic machines beginning i
 n the 1920s. At the outbreak of World War II\, he escaped to the United St
 ates and won a contract with the U.S. Army for a medium-level cryptographi
 c device: the M-209. More than 140\,000 of the compact machines were built
  for the Army and Navy earning Hagelin millions of dollars in royalties. H
 e was the first man to become a millionaire from cryptology.\n\nExcerpt fr
 om ciphermachines.com: 'In 1940\, Hagelin took his C-38 to the US and sold
  his design to the US government. This machine was manufactured by the L.C
 . Smith-Corona Typewriter Company under license from Hagelin's firm. 140\,
 000 M-209s were made during WW2\, making Hagelin the first and possibly on
 ly millionaire from selling cipher technology.' \n\n
DTSTART;TZID=America/New_York:20260907T000000
DTEND;TZID=America/New_York:20260907T235900
LOCATION:
SUMMARY:1983: Inventor Boris Hagelin Died.
END:VEVENT
END:VCALENDAR
