BEGIN:VCALENDAR
VERSION:2.0
PRODID:-//archive.cryptologicfoundation.org//NONSGML kigkonsult.se iCalcrea
 tor 2.30.10//
CALSCALE:GREGORIAN
METHOD:PUBLISH
UID:1b589c03-cda3-471a-89ad-ce71cf737257
X-WR-CALDESC:10 September 1877: Frank Moorman was born. Moorman was chief o
 f AEF's Radio Intelligence Section (G2A6). \n\nIn July 1918\, Colonel (Coa
 st Artillery Corps) Frank Moorman received the Army Distinguished Service 
 Medal for exceptionally meritorious and distinguished services to the Gove
 rnment of the United States\, in a duty of great responsibility during Wor
 ld War I. \n\nThe order reads.....'In a position of greatest responsibilit
 y\, Colonel Moorman displayed peculiar genius\, combined with exact scient
 ific knowledge\, in organizing\, training\, and operating the Radio Intell
 igence Service of the Intelligence Section. Charged with the duty of inter
 cepting and deciphering the radio messages of the enemy\, he acted with in
 itiative and foresight\, achieving brilliant results.'\nGeneral Orders: Wa
 r Department\, General Orders No. 59 (1919)
X-WR-RELCALID:7957705bc4a835c90e8221c19b0b8c7b
X-WR-TIMEZONE:America/New_York
BEGIN:VTIMEZONE
TZID:America/New_York
BEGIN:STANDARD
TZNAME:EST
DTSTART:20251102T020000
TZOFFSETFROM:-0400
TZOFFSETTO:-0500
RDATE:20261101T020000
RDATE:20271107T020000
END:STANDARD
BEGIN:DAYLIGHT
TZNAME:EDT
DTSTART:20260308T020000
TZOFFSETFROM:-0500
TZOFFSETTO:-0400
RDATE:20270314T020000
END:DAYLIGHT
END:VTIMEZONE
BEGIN:VEVENT
UID:eb0b125f-1c01-4402-aaca-9ee674033266
DTSTAMP:20260424T125344Z
DESCRIPTION:10 September 1877: Frank Moorman was born. Moorman was chief of
  AEF's Radio Intelligence Section (G2A6). \n\nIn July 1918\, Colonel (Coas
 t Artillery Corps) Frank Moorman received the Army Distinguished Service M
 edal for exceptionally meritorious and distinguished services to the Gover
 nment of the United States\, in a duty of great responsibility during Worl
 d War I. \n\nThe order reads.....'In a position of greatest responsibility
 \, Colonel Moorman displayed peculiar genius\, combined with exact scienti
 fic knowledge\, in organizing\, training\, and operating the Radio Intelli
 gence Service of the Intelligence Section. Charged with the duty of interc
 epting and deciphering the radio messages of the enemy\, he acted with ini
 tiative and foresight\, achieving brilliant results.'\nGeneral Orders: War
  Department\, General Orders No. 59 (1919)
DTSTART;TZID=America/New_York:20260910T000000
DTEND;TZID=America/New_York:20260910T235900
LOCATION:
SUMMARY:1877: Frank Moorman (AEF Radio Intel) was born.
END:VEVENT
END:VCALENDAR
