BEGIN:VCALENDAR
VERSION:2.0
PRODID:-//archive.cryptologicfoundation.org//NONSGML kigkonsult.se iCalcrea
 tor 2.30.10//
CALSCALE:GREGORIAN
METHOD:PUBLISH
UID:b117be71-cb90-4945-9204-12575b6962a8
X-WR-CALDESC:12 September 1918: U.S. offensive on the Saint-Mihiel salient\
 , France. \n\nOn this day in 1918\, the American Expeditionary Force (AEF)
  under the command of General John J. Pershing launches its first major of
 fensive operation as an independent army during World War I.
X-WR-RELCALID:f4b469b14d0288e5bb62820a8376ea23
X-WR-TIMEZONE:America/New_York
BEGIN:VTIMEZONE
TZID:America/New_York
BEGIN:STANDARD
TZNAME:EST
DTSTART:20251102T020000
TZOFFSETFROM:-0400
TZOFFSETTO:-0500
RDATE:20261101T020000
RDATE:20271107T020000
END:STANDARD
BEGIN:DAYLIGHT
TZNAME:EDT
DTSTART:20260308T020000
TZOFFSETFROM:-0500
TZOFFSETTO:-0400
RDATE:20270314T020000
RDATE:20280312T020000
END:DAYLIGHT
END:VTIMEZONE
BEGIN:VEVENT
UID:593ebbf8-5d51-4e34-912d-6951e68ec481
DTSTAMP:20260424T125513Z
DESCRIPTION:12 September 1918: U.S. offensive on the Saint-Mihiel salient\,
  France. \n\nOn this day in 1918\, the American Expeditionary Force (AEF) 
 under the command of General John J. Pershing launches its first major off
 ensive operation as an independent army during World War I.
DTSTART;TZID=America/New_York:20260912T000000
DTEND;TZID=America/New_York:20260912T235900
LOCATION:
SUMMARY:1918: U.S. Offensive on the Saint-Mihiel
END:VEVENT
END:VCALENDAR
