BEGIN:VCALENDAR
VERSION:2.0
PRODID:-//archive.cryptologicfoundation.org//NONSGML kigkonsult.se iCalcrea
 tor 2.30.10//
CALSCALE:GREGORIAN
METHOD:PUBLISH
UID:253496be-d0fc-4a31-9c95-15c695c6d553
X-WR-CALDESC:15 September 1945: The Signal Security Agency reorganized as t
 he Army Security Agency. \n\nExcerpt from 'Origins of the Army Security Ag
 ency' on NSA.gov.\n\n'The SSA was reorganized as the Army Security Agency 
 (ASA) at Arlington Hall Station\, Virginia\, on 15 September 1945. Operati
 ng under the command of the Director of Military Intelligence\, the new ag
 ency had a sweeping charter. It exercised control functions through a vert
 ical command structure. ASA established a worldwide chain of fixed sites -
  'field stations' - while maintaining large theater headquarters in the Fa
 r East and in Europe.\n\nIn 1949\, all three military cryptologic services
  were centralized under the new Armed Forces Security Agency (AFSA)\, the 
 precursor of today's National Security Agency.' ....see link below for a c
 ollection of historical publications about the ASA.
X-WR-RELCALID:005ad1a1d3decb464d306c4bf6eabd54
X-WR-TIMEZONE:America/New_York
BEGIN:VTIMEZONE
TZID:America/New_York
BEGIN:STANDARD
TZNAME:EST
DTSTART:20251102T020000
TZOFFSETFROM:-0400
TZOFFSETTO:-0500
RDATE:20261101T020000
RDATE:20271107T020000
END:STANDARD
BEGIN:DAYLIGHT
TZNAME:EDT
DTSTART:20260308T020000
TZOFFSETFROM:-0500
TZOFFSETTO:-0400
RDATE:20270314T020000
RDATE:20280312T020000
END:DAYLIGHT
END:VTIMEZONE
BEGIN:VEVENT
UID:0ab8fbca-c296-47d2-996a-b8b09a3008ce
DTSTAMP:20260424T125544Z
DESCRIPTION:15 September 1945: The Signal Security Agency reorganized as th
 e Army Security Agency. \n\nExcerpt from 'Origins of the Army Security Age
 ncy' on NSA.gov.\n\n'The SSA was reorganized as the Army Security Agency (
 ASA) at Arlington Hall Station\, Virginia\, on 15 September 1945. Operatin
 g under the command of the Director of Military Intelligence\, the new age
 ncy had a sweeping charter. It exercised control functions through a verti
 cal command structure. ASA established a worldwide chain of fixed sites - 
 'field stations' - while maintaining large theater headquarters in the Far
  East and in Europe.\n\nIn 1949\, all three military cryptologic services 
 were centralized under the new Armed Forces Security Agency (AFSA)\, the p
 recursor of today's National Security Agency.' ....see link below for a co
 llection of historical publications about the ASA.
DTSTART;TZID=America/New_York:20260915T000000
DTEND;TZID=America/New_York:20260915T235900
LOCATION:
SUMMARY:1945: Signal Security Agency becomes ASA
END:VEVENT
END:VCALENDAR
