BEGIN:VCALENDAR
VERSION:2.0
PRODID:-//archive.cryptologicfoundation.org//NONSGML kigkonsult.se iCalcrea
 tor 2.30.10//
CALSCALE:GREGORIAN
METHOD:PUBLISH
UID:a54a8164-a5c5-4633-b072-a79a48990639
X-WR-CALDESC:17 September 1967: Dr. David Kahn's book\, 'The Codebreakers' 
 was published. \n\nLearn about the many rare and interesting cryptologic i
 tems that Dr. Kahn has donated to the Foundation and Museum over the years
  in our Special Acquisitions section via the link below.
X-WR-RELCALID:c90c6bc30877964ba362e5a35ba75e84
X-WR-TIMEZONE:America/New_York
BEGIN:VTIMEZONE
TZID:America/New_York
BEGIN:STANDARD
TZNAME:EST
DTSTART:20251102T020000
TZOFFSETFROM:-0400
TZOFFSETTO:-0500
RDATE:20261101T020000
RDATE:20271107T020000
END:STANDARD
BEGIN:DAYLIGHT
TZNAME:EDT
DTSTART:20260308T020000
TZOFFSETFROM:-0500
TZOFFSETTO:-0400
RDATE:20270314T020000
RDATE:20280312T020000
END:DAYLIGHT
END:VTIMEZONE
BEGIN:VEVENT
UID:df8e9d1d-087b-4885-b0c4-ce27d23463e1
DTSTAMP:20260424T125000Z
DESCRIPTION:17 September 1967: Dr. David Kahn's book\, 'The Codebreakers' w
 as published. \n\nLearn about the many rare and interesting cryptologic it
 ems that Dr. Kahn has donated to the Foundation and Museum over the years 
 in our Special Acquisitions section via the link below.
DTSTART;TZID=America/New_York:20260917T000000
DTEND;TZID=America/New_York:20260917T235900
LOCATION:
SUMMARY:1967: David Kahn's book\, 'The Codebreakers' was published.
END:VEVENT
END:VCALENDAR
