BEGIN:VCALENDAR
VERSION:2.0
PRODID:-//archive.cryptologicfoundation.org//NONSGML kigkonsult.se iCalcrea
 tor 2.30.10//
CALSCALE:GREGORIAN
METHOD:PUBLISH
UID:ceb131de-2e97-4fa9-918d-196aa1e6672c
X-WR-CALDESC:18 September 1947:  Initially part of the United States Army\,
  the USAF was formed as a separate branch of the military on 18 September 
 1947 under the National Security Act of 1947.
X-WR-RELCALID:224c77f2915c30eb36cd3bd7ff7c48c1
X-WR-TIMEZONE:America/New_York
BEGIN:VTIMEZONE
TZID:America/New_York
BEGIN:STANDARD
TZNAME:EST
DTSTART:20251102T020000
TZOFFSETFROM:-0400
TZOFFSETTO:-0500
RDATE:20261101T020000
RDATE:20271107T020000
END:STANDARD
BEGIN:DAYLIGHT
TZNAME:EDT
DTSTART:20260308T020000
TZOFFSETFROM:-0500
TZOFFSETTO:-0400
RDATE:20270314T020000
RDATE:20280312T020000
END:DAYLIGHT
END:VTIMEZONE
BEGIN:VEVENT
UID:9548e259-7dac-4b9d-9f96-25559f1291d1
DTSTAMP:20260424T125025Z
DESCRIPTION:18 September 1947:  Initially part of the United States Army\, 
 the USAF was formed as a separate branch of the military on 18 September 1
 947 under the National Security Act of 1947.
DTSTART;TZID=America/New_York:20260918T000000
DTEND;TZID=America/New_York:20260918T235900
LOCATION:
SUMMARY:1947: USAF Established
END:VEVENT
END:VCALENDAR
